BEGIN:VCALENDAR
VERSION:2.0
PRODID:-//National Speakers Association - ECPv6.15.20//NONSGML v1.0//EN
CALSCALE:GREGORIAN
METHOD:PUBLISH
X-WR-CALNAME:National Speakers Association
X-ORIGINAL-URL:https://nsaspeaker.org
X-WR-CALDESC:Events for National Speakers Association
REFRESH-INTERVAL;VALUE=DURATION:PT1H
X-Robots-Tag:noindex
X-PUBLISHED-TTL:PT1H
BEGIN:VTIMEZONE
TZID:America/Phoenix
BEGIN:STANDARD
TZOFFSETFROM:-0700
TZOFFSETTO:-0700
TZNAME:MST
DTSTART:20240101T000000
END:STANDARD
END:VTIMEZONE
BEGIN:VEVENT
DTSTART;TZID=America/Phoenix:20250402T133000
DTEND;TZID=America/Phoenix:20250402T153000
DTSTAMP:20260423T105855
CREATED:20250127T200745Z
LAST-MODIFIED:20250312T220927Z
UID:11261-1743600600-1743607800@nsaspeaker.org
SUMMARY:NSANW: YouTube SIG
DESCRIPTION:www.nsanorthwest.org/events
URL:https://nsaspeaker.org/local-event/nsanw-youtube-sig-3/
END:VEVENT
BEGIN:VEVENT
DTSTART;TZID=America/Phoenix:20250402T171500
DTEND;TZID=America/Phoenix:20250402T184500
DTSTAMP:20260423T105855
CREATED:20250307T220746Z
LAST-MODIFIED:20250312T220927Z
UID:11407-1743614100-1743619500@nsaspeaker.org
SUMMARY:NSA Austin Speech Mastermind In-person
DESCRIPTION:https://nsa-austin.com/events/in-person-speech-mastermind-april-2-2025/ \nJoin us in person for NSA Austin’s Speech Mastermind SIG meeting! \nWant to run ideas\, activities or stories for your speech by a group of your colleagues to see how well they float? Now you can. \nBring your ideas\, scripting\, imaging\, props\, etc. and be ready to demonstrate a short portion or part of your speech in front of the group. First drafts and last drafts are welcome. \nObtain feedback\, suggestions\, embellishment\, and deepening elements you could probably not imagine. Punch up your copy and presentation with the help of everyone in attendance and walk out with a better version of your speech. This is an opportunity you have only dreamed about. Now it is a distinct possibility…Wednesday night. Don’t have something ready to work on? Come anyway and contribute to others. Next time will be your time. \nREGISTRATION REQUIRED: Tickets below \nDAY: Wednesday\, April 2\, 2025 \nTIME: 7:15 pm – 8:45 pm Central time \nLOCATION: Paul Radde’s home (you must register to get login information) \nGUESTS are welcome \nQuestions: speakers@nsa-austin.com \nStop wondering if your story\, punch-line\, or message is getting across. This group will help let you know and help you make it more powerful! \nThank you\,Paul RaddeSpeech Mastermind ChairNSA Austin \nhttps://nsa-austin.com/events/in-person-speech-mastermind-april-2-2025/
URL:https://nsaspeaker.org/local-event/nsa-austin-speech-mastermind-in-person-3/
LOCATION:https://nsa-austin.com/events/in-person-speech-mastermind-april-2-2025/
END:VEVENT
BEGIN:VEVENT
DTSTART;TZID=America/Phoenix:20250404T070000
DTEND;TZID=America/Phoenix:20250404T100000
DTSTAMP:20260423T105855
CREATED:20241014T204311Z
LAST-MODIFIED:20250306T220726Z
UID:10672-1743750000-1743760800@nsaspeaker.org
SUMMARY:NSA Austin Chapter Event
DESCRIPTION:
URL:https://nsaspeaker.org/local-event/nsa-austin-chapter-event-6/
END:VEVENT
BEGIN:VEVENT
DTSTART;TZID=America/Phoenix:20250404T070000
DTEND;TZID=America/Phoenix:20250404T100000
DTSTAMP:20260423T105855
CREATED:20250111T213807Z
LAST-MODIFIED:20250212T205310Z
UID:11155-1743750000-1743760800@nsaspeaker.org
SUMMARY:NSA Austin Hybrid Event: Rick Lozano\, CSP
DESCRIPTION:Original Amplified \nLeveragingYour Uniqueness to Create Thought Leadership\, Flow\, and Distinction \nThere is no shortage of speakers\, trainers\, and consultants out there. \nAnd even the most talented of us sometimes struggle to distinguish ourselves in a crowded market. So how do you create content and a platform that’s uniquely yours and that separates you from the rest? \nThat’s exactly what Rick Lozano will be talking about in this dynamic and inspiring session! \nHe’ll be sharing some tips and tricks for how to use your unique skills\, talents\, and passions\, to create experiences that only you can deliver. And\, in the process\, you’ll ignite massive momentum in your business and feel great about it along the way. \nNo matter where you are in your career journey\, you are guaranteed to find value in this session as Rick draws brings his singular style to deliver a session that is equal parts insightful and entertaining. \nGuitar included. \nYou’ll walk away with: \n\nA framework for creating content that stands out and inspires you and your audience.\nA streamlined approach to building your platform so you don’t have to constantly reinvent the wheel.\nA renewed sense of excitement for your work.\nExamples of other NSA members who have elevated their work utilizing Rick’s process.\n\nFor more information on Rick\, visit https://ricklozanopreview.com \nMeet Rick Lozano\, CSP:  \nRick Lozano helps people unlock potential and amplify their talent\, and he does it all with his unique blend of energy\, expertise\, and a musician’s soul. \nWith twenty years of experience in award-winning talent and leadership development programs\, Rick brings his unique approach to audiences across the globe\, combining his expertise as a world-class speaker with his talents as a singer/songwriter and musician. \nHe is the author of Acoustic Leadership – Develop A Leadership Culture That Resonates and the owner of Unlock & Amplify®. He has built a reputation for his refreshing delivery that leaves audiences raving and – more importantly – with action items they can immediately implement to produce change. \nhttps://nsa-austin.com/events/rick-lozano-csp-february-7-2025-hybrid-event/
URL:https://nsaspeaker.org/local-event/nsa-austin-hybrid-event-rick-lozano-csp-4/
LOCATION:https://nsa-austin.com/events/rick-lozano-csp-february-7-2025-hybrid-event/
END:VEVENT
BEGIN:VEVENT
DTSTART;TZID=America/Phoenix:20250404T070000
DTEND;TZID=America/Phoenix:20250404T100000
DTSTAMP:20260423T105855
CREATED:20250207T203700Z
LAST-MODIFIED:20250312T220927Z
UID:11294-1743750000-1743760800@nsaspeaker.org
SUMMARY:NSA STL - Ross Bernstein – The Champion’s Code: How to Generate Momentum and Grow Your Speaking Business Through Good Times and Bad
DESCRIPTION:Click HERE for more information and to register
URL:https://nsaspeaker.org/local-event/nsa-stl-ross-bernstein-the-champions-code-how-to-generate-momentum-and-grow-your-speaking-business-through-good-times-and-bad/
END:VEVENT
BEGIN:VEVENT
DTSTART;TZID=America/Phoenix:20250404T070000
DTEND;TZID=America/Phoenix:20250404T100000
DTSTAMP:20260423T105855
CREATED:20250307T220746Z
LAST-MODIFIED:20250312T220927Z
UID:11409-1743750000-1743760800@nsaspeaker.org
SUMMARY:NSA Austin Denise Hamilton (Hybrid Event)
DESCRIPTION:https://nsa-austin.com/events/denise-hamilton-april-4-2025-hybrid-event/\nHybrid Event – Denise Hamilton April 4\, 2025\nHow to Get the Word Out: Sharing Your Message Broadly in a Noisy World\nHow to Get the Word Out: \nSharing Your Message Broadly in a Noisy World \nYou are an expert. You’ve spent years developing your skills and your messages. But how do you bring more attention to the valuable ideas you have to share? In this workshop\, Denise Hamilton will share practical\, actionable ways to improve your visibility in both traditional and social media. To make sure you’re telling the story you want audiences to hear\, Denise will share tips on: \n\nTelevision\n Podcasts\n Print\nSocial media\nThought leadership on digital platforms like Substack and Medium\nMarketing materials\nAdvertising\n\nMeet Denise Hamilton: Denise Hamilton is an author\, speaker\, and consultant dedicated to helping leaders foster authentic connections in an ever-evolving world. Whether navigating the challenges of remote work\, integrating AI into workplaces\, or embracing a more diverse workforce\, Denise champions the human side of transformation. \nA firm believer in our collective potential to create solutions rather than dwell on problems\, Denise brings a uniquely optimistic and practical approach to even the most difficult conversations. Her ability to inspire trust and guide discussions toward actionable outcomes has become her hallmark\, empowering leaders to cultivate teams that thrive in complex\, fast-changing environments. \nDenise’s insights on building stronger\, more connected workplaces have been featured in MIT Sloan Management Review\, NPR\, Harvard Business Review\, Bloomberg\, MSNBC’s Morning Joe\, and Newsweek. Her debut book\, Indivisible\, explores how shared purpose and collaboration can help us bridge divides and build a stronger future together. \nDenise lives in Houston\, TX\, where she continues to inspire leaders and organizations to prioritize people and purpose. Learn more at denisehamilton.co \nhttps://nsa-austin.com/events/denise-hamilton-april-4-2025-hybrid-event/
URL:https://nsaspeaker.org/local-event/nsa-austin-denise-hamilton-hybrid-event/
LOCATION:https://nsa-austin.com/events/denise-hamilton-april-4-2025-hybrid-event/
END:VEVENT
BEGIN:VEVENT
DTSTART;TZID=America/Phoenix:20250410T163000
DTEND;TZID=America/Phoenix:20250410T210000
DTSTAMP:20260423T105855
CREATED:20250203T203726Z
LAST-MODIFIED:20250312T220927Z
UID:11278-1744302600-1744318800@nsaspeaker.org
SUMMARY:NSA NW 40th Anniversary Gala
DESCRIPTION:
URL:https://nsaspeaker.org/local-event/nsa-nw-40th-anniversary-gala/
LOCATION:24323 Bothell Everett Hwy\, Bothell\, WA\, United States
END:VEVENT
BEGIN:VEVENT
DTSTART;TZID=America/Phoenix:20250412T090000
DTEND;TZID=America/Phoenix:20250412T110000
DTSTAMP:20260423T105855
CREATED:20250307T220747Z
LAST-MODIFIED:20250312T220927Z
UID:11411-1744448400-1744455600@nsaspeaker.org
SUMMARY:NSA SoCal: Victor Antonio (Virtual)
DESCRIPTION:https://events.nsasocal.org/NSASoCalApril2025ChapterMeetingSpeakerEvent \nSales Excellence Through Influence\nThis presentation is loaded with research and studies on how to influence the buying process and increase buyer satisfaction. Find out how buyer's have changed and why outdated techniques don't work anymore. Learn how to position your product/service\, frame your pricing and reduce a buyer's resistance! \nAbout Victor Antonio\nVictor Antonio is one of the most dynamic\, entertaining and informative sales experts in the world today! From a tech nerd to a top sales trainer\, companies from Africa\, the Middle East\, Gulf Region\, Australia\, Asia\, Europe and Latin America have asked him to speak on the topic of sales\, influence\, and persuasion. \nHe holds a B.S. in Electrical Engineering and an MBA which helped him become President of Sales and Marketing for a $420M technology company. He was the first to write a sales book on how Artificial Intelligence is transforming the world of selling and has recently launched the first sales conference in the metaverse (SalesWorld.mv). \nhttps://events.nsasocal.org/NSASoCalApril2025ChapterMeetingSpeakerEvent
URL:https://nsaspeaker.org/local-event/nsa-socal-victor-antonio-virtual/
LOCATION:https://events.nsasocal.org/NSASoCalApril2025ChapterMeetingSpeakerEvent
END:VEVENT
BEGIN:VEVENT
DTSTART;TZID=America/Phoenix:20250412T090000
DTEND;TZID=America/Phoenix:20250412T123000
DTSTAMP:20260423T105855
CREATED:20250310T220720Z
LAST-MODIFIED:20250312T220927Z
UID:11428-1744448400-1744461000@nsaspeaker.org
SUMMARY:NSAAZ: Own the Stage
DESCRIPTION:Register: https://nsa-arizona.org/event-6090447 \nJonathan Bender\, MS\, MFA\, the creator of the WholeSpeak Method\, will present “Own the Stage: How to Use Acting\, Movement and Vocal Techniques to Captivate and Inspire Audiences.” If you want to truly stand out as a speaker with your delivery\, you need to move beyond standard speaking techniques. Acting\, voice and movement techniques – adapted so that anyone can learn them quickly and easily – will help you become an unforgettable speaker and hold the audience in the palm of your hand. In this session\, led by 28-year speaking and performance coach and theater professional Jonathan Bender\, you’ll get introduced to trade secrets that performers use to uplevel their self-expression\, confidence and presence. Don’t worry: performance techniques don’t make you lose authenticity – in fact\, they help you grow it. \n3 Ways to Participate: \n\nRegister to join us in person.\nRegister to join us via live-streaming on the day of the event.\nRegister to receive a link to the recording afterward.
URL:https://nsaspeaker.org/local-event/nsaaz-own-the-stage/
END:VEVENT
BEGIN:VEVENT
DTSTART;TZID=America/Phoenix:20250414T173000
DTEND;TZID=America/Phoenix:20250414T203000
DTSTAMP:20260423T105855
CREATED:20241022T212806Z
LAST-MODIFIED:20250312T220927Z
UID:10740-1744651800-1744662600@nsaspeaker.org
SUMMARY:NSA Oregon Roundtable (Hybrid Event)
DESCRIPTION:Hybrid Event – Roundtable April 14\, 2025\n \nUnlocking Success: A Candid Conversation for NSA Oregon\nhttps://nsaoregon.org/events/hybrid-event-roundtable-april-14-2025/ \nJoin us for an engaging evening of connection\, collaboration\, and community. Whether you join us in-person or stream in via Zoom\, you're in for a treat! \nAnnual Meeting:Led by the fabulous members of our board\, our Chapter Annual Meeting offers a comprehensive 360-degree view of our chapter's activities\, financials\, committees\, and upcoming programs. This is your golden opportunity to ask questions\, share ideas\, and provide input. We're committed to making this an annual tradition\, ensuring that every member has a voice in shaping the future of our NSA Oregon community. \nSpeakers Roundtable:Bring your burning questions and your invaluable insights about the current state of NSA Oregon speakers! This moderated open discussion among members is your chance to: \n\nExchange recent experiences\nGlean practical tips\nUncover local resources to elevate your speaking business\nShare best practices for social media\nDiscuss using AI in your business\n\nWhether you're curious about the art of packing your suitcase (and rubber chickens) efficiently or seeking recommendations for local service providers to support your business and creative needs\, this is the perfect forum to ask and learn. \nCome prepared to connect\, share\, and grow together as we elevate our speaking skills and businesses to new heights. We can't wait to see you there! \nHybrid Event! Select your ticket below and look for the confirmation email for appropriate details. \nLocation info to come \nhttps://nsaoregon.org/events/hybrid-event-roundtable-april-14-2025/
URL:https://nsaspeaker.org/local-event/nsa-oregon-roundtable-hybrid-event/
LOCATION:https://nsaoregon.org/events/hybrid-event-roundtable-april-14-2025/
END:VEVENT
BEGIN:VEVENT
DTSTART;TZID=America/Phoenix:20250417T160000
DTEND;TZID=America/Phoenix:20250417T173000
DTSTAMP:20260423T105855
CREATED:20240830T222302Z
LAST-MODIFIED:20250312T220927Z
UID:10412-1744905600-1744911000@nsaspeaker.org
SUMMARY:NSA Ohio: The Speakers Journey
DESCRIPTION:TheSpeakers Journey: Wisdom from Expert Speakers with A panel of NSA Ohio Members \nGain invaluable knowledge and practical advice from seasonedspeakers who have mastered the art of captivating audiences and making alasting impact through their presentations. Whether you’re looking to kickstartyour speaking journey or elevate your existing systems\, “The SpeakersJourney” promises to equip you with the tools and inspiration needed tosucceed in the world of public speaking. Get to know and learn from some of NSAOhio’s best. \nThis panel brings together a diverse group of NSA Ohioaccomplished members who have excelled in various facets of the speakingindustry. Ask your questions and learn from our experienced speakers. \nThis is a virtual event. Register here: https://www.nsaohio.com/offers/PKMwfaC6/checkout
URL:https://nsaspeaker.org/local-event/nsa-ohio-the-speakers-journey/
LOCATION:https://www.nsaohio.com/offers/PKMwfaC6/checkout
END:VEVENT
BEGIN:VEVENT
DTSTART;TZID=America/Phoenix:20250418T070000
DTEND;TZID=America/Phoenix:20250418T090000
DTSTAMP:20260423T105855
CREATED:20241014T204312Z
LAST-MODIFIED:20250212T205310Z
UID:10673-1744959600-1744966800@nsaspeaker.org
SUMMARY:NSA Austin SIG Meeting
DESCRIPTION:
URL:https://nsaspeaker.org/local-event/nsa-austin-sig-meeting-8/
END:VEVENT
BEGIN:VEVENT
DTSTART;TZID=America/Phoenix:20250418T070000
DTEND;TZID=America/Phoenix:20250418T090000
DTSTAMP:20260423T105855
CREATED:20250111T213808Z
LAST-MODIFIED:20250212T205310Z
UID:11156-1744959600-1744966800@nsaspeaker.org
SUMMARY:NSA Austin Virtual TechXChange
DESCRIPTION:24 Ways to Get Paid to Speak\nWe’re thrilled to have Nona Prather as our February SIG speaker. She’ll share how to use speaking engagements to grow your business. The presentation is based on her insightful book 24 Ways to Get Paid to Speak. We’ll explore various speaking opportunities—from conferences to webinars—and how each can amplify their brand. Nona will share industry tips\, including essential marketing materials like your speaker bio\, one-sheet\, and demo reel\, and how to effectively position yourself as an expert. You’ll also discover how to identify the best events for your niche audience and how to find the right organizers to connect with. \nNona Prather is the owner of a booking agency for professional speakers\, consultants\, and entertainers. With over 30 years of experience in the speaking industry\, she’s become an expert in helping individuals build successful speaking careers. Nona is also the author of 24 Ways to Get Paid to Speak and leads workshops on using paid speaking opportunities to attract clients and grow businesses. Outside of her professional work\, Nona enjoys hiking in the mountains of New Mexico with her husband\, daughter\, and two dogs\, embracing the beauty of the great outdoors. \nNational Speakers Association Austin members are FREE to attend. \nCost for non-members is only $25. \nREGISTRATION REQUIRED: Tickets below \nDAY: Friday\, February 17\, 2025 \nTIME: 9:00 am – 11:00 am \nLOCATION: Virtual (you must register to get login information) \nCOST: FREE for NSA Austin Professional Members and Affiliates(Be sure that you have paid your dues!) \nGUESTS are welcome: $25.00 guest fee. \nQUESTIONS: speakers@nsa-austin.com \nSee you there! \nhttps://nsa-austin.com/events/virtual-techxchange-february-21-2025/
URL:https://nsaspeaker.org/local-event/nsa-austin-virtual-techxchange-5/
LOCATION:https://nsa-austin.com/events/virtual-techxchange-february-21-2025/
END:VEVENT
BEGIN:VEVENT
DTSTART;TZID=America/Phoenix:20250418T070000
DTEND;TZID=America/Phoenix:20250418T090000
DTSTAMP:20260423T105855
CREATED:20250213T205218Z
LAST-MODIFIED:20250312T220928Z
UID:11313-1744959600-1744966800@nsaspeaker.org
SUMMARY:NSA Austin Virtual Writers SIG
DESCRIPTION:Seeing Stories Everywhere: Build your personal “story stash” so you always have stories on hand to engage your audience\nhttps://nsa-austin.com/events/virtual-writers-sig-april-18-2025/ \nThis workshop is for you if you’ve ever thought\, “I wish I had a story that could start my talk with a bang!” Or “I know my message would hit home better if only I had a story to illustrate my big idea.” Don’t be held back by thinking that you don’t have a story that’s “important” enough to share. Instead\, learn how to turn your everyday experiences into stories that pack a punch and immediately connect with your audience.  \nJoin storytelling teacher Megan Barnhard as she guides you step by step to find stories at your fingertips. You’lll learn practical skills that build your “storytelling muscle” — so you always have a story on hand\, whether you want to spice up the opening of your signature talk\, drive home a key point with a specific example\, or engage your audience’s emotions so your message really sticks. Bonus: The more you see stories everywhere\, the more you adopt a growth mindset and view yourself as the hero of your own journey. \nMegan Barnhard is a writing coach & story magician who helps deep thinkers get their bold ideas out of their heads and onto the page. With a background in special education and over 20 years’ experience serving writers of all ages\, Megan is committed to making the writing process accessible and fun for everyone. Using her story X-ray vision\, as well as inspiring prompts that bypass the inner critic\, she unlocks writing flow for business owners\, speakers\, authors\, and creatives. Megan is the author of the Recipe for Writing book series and the Wise Writer Within Oracle Deck. Learn more about Megan: https://www.meganbarnhard.com/ \nNational Speakers Association Austin members are FREE to attend. \nCost for non-members is only $25. \nREGISTRATION REQUIRED: Tickets below \nDAY: Friday\, April 18\, 2025 \nTIME: 9:00 am – 11:00 am \nLOCATION: Virtual (you must register to get login information) \nCOST: FREE for NSA Austin Professional Members and Affiliates(Be sure that you have paid your dues!) \nGUESTS are welcome: $25.00 guest fee. \nQUESTIONS: speakers@nsa-austin.com \nSee you there! \nCarrie VanstonSIG ChairNSA Austin \nhttps://nsa-austin.com/events/virtual-writers-sig-april-18-2025/
URL:https://nsaspeaker.org/local-event/nsa-austin-virtual-writers-sig-5/
LOCATION:https://nsa-austin.com/events/virtual-writers-sig-april-18-2025/
END:VEVENT
END:VCALENDAR