BEGIN:VCALENDAR
VERSION:2.0
PRODID:-//National Speakers Association - ECPv6.15.20//NONSGML v1.0//EN
CALSCALE:GREGORIAN
METHOD:PUBLISH
X-WR-CALNAME:National Speakers Association
X-ORIGINAL-URL:https://nsaspeaker.org
X-WR-CALDESC:Events for National Speakers Association
REFRESH-INTERVAL;VALUE=DURATION:PT1H
X-Robots-Tag:noindex
X-PUBLISHED-TTL:PT1H
BEGIN:VTIMEZONE
TZID:America/Los_Angeles
BEGIN:DAYLIGHT
TZOFFSETFROM:-0800
TZOFFSETTO:-0700
TZNAME:PDT
DTSTART:20230312T100000
END:DAYLIGHT
BEGIN:STANDARD
TZOFFSETFROM:-0700
TZOFFSETTO:-0800
TZNAME:PST
DTSTART:20231105T090000
END:STANDARD
BEGIN:DAYLIGHT
TZOFFSETFROM:-0800
TZOFFSETTO:-0700
TZNAME:PDT
DTSTART:20240310T100000
END:DAYLIGHT
BEGIN:STANDARD
TZOFFSETFROM:-0700
TZOFFSETTO:-0800
TZNAME:PST
DTSTART:20241103T090000
END:STANDARD
BEGIN:DAYLIGHT
TZOFFSETFROM:-0800
TZOFFSETTO:-0700
TZNAME:PDT
DTSTART:20250309T100000
END:DAYLIGHT
BEGIN:STANDARD
TZOFFSETFROM:-0700
TZOFFSETTO:-0800
TZNAME:PST
DTSTART:20251102T090000
END:STANDARD
END:VTIMEZONE
BEGIN:VTIMEZONE
TZID:America/Phoenix
BEGIN:STANDARD
TZOFFSETFROM:-0700
TZOFFSETTO:-0700
TZNAME:MST
DTSTART:20230101T000000
END:STANDARD
END:VTIMEZONE
BEGIN:VEVENT
DTSTART;TZID=America/Los_Angeles:20241204T160000
DTEND;TZID=America/Los_Angeles:20241204T180000
DTSTAMP:20260420T082852
CREATED:20241114T220709Z
LAST-MODIFIED:20241126T225327Z
UID:10854-1733328000-1733335200@nsaspeaker.org
SUMMARY:NSANW: Last Story Standing SIG
DESCRIPTION:www.nsanorthwest.org/events
URL:https://nsaspeaker.org/local-event/nsanw-last-story-standing-sig/
LOCATION:Zoom
END:VEVENT
BEGIN:VEVENT
DTSTART;TZID=America/Phoenix:20241206T080000
DTEND;TZID=America/Phoenix:20241206T110000
DTSTAMP:20260420T082852
CREATED:20241014T204307Z
LAST-MODIFIED:20241021T213039Z
UID:10662-1733472000-1733482800@nsaspeaker.org
SUMMARY:NSA Austin Chapter Event
DESCRIPTION:
URL:https://nsaspeaker.org/local-event/nsa-austin-chapter-event-2/
END:VEVENT
BEGIN:VEVENT
DTSTART;TZID=America/Phoenix:20241207T120000
DTEND;TZID=America/Phoenix:20241207T150000
DTSTAMP:20260420T082852
CREATED:20241009T203828Z
LAST-MODIFIED:20241126T225327Z
UID:10620-1733572800-1733583600@nsaspeaker.org
SUMMARY:NSA NorCal Holiday Party
DESCRIPTION:Info and registration at www.nsanc.org/events
URL:https://nsaspeaker.org/local-event/nsa-norcal-holiday-party/
LOCATION:Chicken Pie Shop\, 1251 Arroyo Way\, Walnut Creek\, CA\, United States
END:VEVENT
BEGIN:VEVENT
DTSTART;TZID=America/Phoenix:20241209T203000
DTEND;TZID=America/Phoenix:20241209T223000
DTSTAMP:20260420T082852
CREATED:20241022T212803Z
LAST-MODIFIED:20241126T225327Z
UID:10732-1733776200-1733783400@nsaspeaker.org
SUMMARY:NSA Oregon Holiday Party (In-person event)
DESCRIPTION:In-person Holiday Party 2024\n \n🎉 Join Us for a Celebration! 🎉\nhttps://nsaoregon.org/events/2024-holiday-party/ \nAs we celebrate another successful year and ring in 2025 together\, let’s embrace the spirit of connection and joy! \n“There is nothing in the world so irresistibly contagious as laughter and good humor.”— Charles Dickens\, A Christmas Carol \nWe invite all Members of NSA (National) and NSA Oregon—past and present—to come and catch a glimpse of your future with NSA Oregon! If you’re not yet an active member\, please use the “Friends & Family” option. \nThis is a wonderful opportunity to meet and reconnect with fellow speakers in our area. \nPotluck Tradition!In the spirit of holiday gatherings\, we’re hosting a potluck! Please sign up to bring a dish to share with your speaker family [here]. \nFeel free to share this invitation with any speaking colleagues looking to connect! \nWe can’t wait to celebrate with you! \n✨ Looking forward to a joyful gathering! ✨\n \nhttps://nsaoregon.org/events/2024-holiday-party/
URL:https://nsaspeaker.org/local-event/nsa-oregon-holiday-party-in-person-event/
LOCATION:https://nsaoregon.org/events/2024-holiday-party/
END:VEVENT
BEGIN:VEVENT
DTSTART;TZID=America/Phoenix:20241211T153000
DTEND;TZID=America/Phoenix:20241211T163000
DTSTAMP:20260420T082852
CREATED:20240606T204906Z
LAST-MODIFIED:20241126T225327Z
UID:10110-1733931000-1733934600@nsaspeaker.org
SUMMARY:Turn Conversation into Keynote Contracts
DESCRIPTION:Turn Conversation into Keynote Contracts with Quinn Conyers.\n\n\nRegistration:       https://bnsa41.wildapricot.org/event-5716119 \nQuestions? office@blacknsa.com \nMany speakers and entrepreneurs have a passion for the podium but struggle to attract and close speaking contracts consistently.  As a result\, they are stuck or stagnate in their speaking career or have no direction or solid speaking strategy besides referrals or spin off business to keep them booked and busy. \nEntrepreneurs\, business owners\, and professional speakers will learn how to have intentional\, obvious\, and NOT so obvious conversations that lead to consistent keynote clients and speaking contracts. \nIn this session discover: \n\nHow to identify “conversation” opportunities that lead to keynote clients and signed contracts.\nWhat a Verbal Business Card is and why every speaker needs one no matter if you’ve been speaking for 2 days or 2 decades.\nHow to attract speaking opportunities using wealthy NOT weak words on social media and podcast interviews.\nHow to retire your boring and basic elevator pitch to be super successful operating a sustainable speaking business.\nHow to differentiate yourself from other speakers in your industry so you or your speech topic don’t appear easily duplicatable.\nHow to take clients from interested to invested in working with you after just one conversation.\n\n 
URL:https://nsaspeaker.org/local-event/education-session-quinn-conyers/
END:VEVENT
BEGIN:VEVENT
DTSTART;TZID=America/Phoenix:20241211T153000
DTEND;TZID=America/Phoenix:20241211T163000
DTSTAMP:20260420T082852
CREATED:20241209T202238Z
LAST-MODIFIED:20241211T202419Z
UID:10961-1733931000-1733934600@nsaspeaker.org
SUMMARY:Turn Conversation into Keynote Contracts
DESCRIPTION:Quinn Conyers-Bio Attached \n\n \nTurn Conversation into Keynote Contracts with Quinn Conyers.\n\n\nRegistration:       https://bnsa41.wildapricot.org/event-5716119 \nQuestions? office@blacknsa.com \n \nMany speakers and entrepreneurs have a passion for the podium but struggle to attract and close speaking contracts consistently.  As a result\, they are stuck or stagnate in their speaking career or have no direction or solid speaking strategy besides referrals or spin off business to keep them booked and busy. \nEntrepreneurs\, business owners\, and professional speakers will learn how to have intentional\, obvious\, and NOT so obvious conversations that lead to consistent keynote clients and speaking contracts. \nIn this session discover: \n\nHow to identify “conversation” opportunities that lead to keynote clients and signed contracts.\nWhat a Verbal Business Card is and why every speaker needs one no matter if you’ve been speaking for 2 days or 2 decades.\nHow to attract speaking opportunities using wealthy NOT weak words on social media and podcast interviews.\nHow to retire your boring and basic elevator pitch to be super successful operating a sustainable speaking business.\nHow to differentiate yourself from other speakers in your industry so you or your speech topic don’t appear easily duplicatable.\nHow to take clients from interested to invested in working with you after just one conversation.
URL:https://nsaspeaker.org/local-event/turn-conversation-into-keynote-contracts/
END:VEVENT
BEGIN:VEVENT
DTSTART;TZID=America/Phoenix:20241214T103000
DTEND;TZID=America/Phoenix:20241214T123000
DTSTAMP:20260420T082852
CREATED:20241022T212804Z
LAST-MODIFIED:20241126T225328Z
UID:10734-1734172200-1734179400@nsaspeaker.org
SUMMARY:NSA Austin Holiday Party (In-person Event)
DESCRIPTION:In-person Event – Holiday Party December 14\, 2024\nhttps://nsa-austin.com/events/holiday-party-december-14/\nCome join us to celebrate another successful year of NSA!\nGet ready to wrap up the year with laughter\, friends\, and festive cheer! It’s time to come together for the NSA Austin Holiday Party\, where good vibes and great memories are guaranteed. \nDate: December 14thLocation: Cover 3Dress: Casual\, festive\, and ready to have fun!Lunch and dessert included – treat yourself! \nDon’t miss out—RSVP by December 1st to secure your spot! \nTickets:$40 for Members & Guests – bring your friends\, the more\, the merrier! \nLet’s make this a holiday bash to remember! \nhttps://nsa-austin.com/events/holiday-party-december-14/
URL:https://nsaspeaker.org/local-event/nsa-austin-holiday-party-in-person-event/
LOCATION:https://nsa-austin.com/events/holiday-party-december-14/
END:VEVENT
BEGIN:VEVENT
DTSTART;TZID=America/Los_Angeles:20241219T160000
DTEND;TZID=America/Los_Angeles:20241219T180000
DTSTAMP:20260420T082852
CREATED:20241114T220709Z
LAST-MODIFIED:20241126T225328Z
UID:10856-1734624000-1734631200@nsaspeaker.org
SUMMARY:NSANW: Last Story Standing SIG
DESCRIPTION:www.nsanorthwest.org/events
URL:https://nsaspeaker.org/local-event/nsanw-last-story-standing-sig-3/
LOCATION:Zoom
END:VEVENT
BEGIN:VEVENT
DTSTART;TZID=America/Phoenix:20241219T170000
DTEND;TZID=America/Phoenix:20241219T190000
DTSTAMP:20260420T082852
CREATED:20241114T220709Z
LAST-MODIFIED:20241126T225328Z
UID:10855-1734627600-1734634800@nsaspeaker.org
SUMMARY:NSANW: Last Story Standing SIG
DESCRIPTION:www.nsanorthwest.org/events
URL:https://nsaspeaker.org/local-event/nsanw-last-story-standing-sig-2/
LOCATION:Zoom
END:VEVENT
BEGIN:VEVENT
DTSTART;TZID=America/Phoenix:20241220T080000
DTEND;TZID=America/Phoenix:20241220T100000
DTSTAMP:20260420T082852
CREATED:20241014T204307Z
LAST-MODIFIED:20241021T213039Z
UID:10663-1734681600-1734688800@nsaspeaker.org
SUMMARY:NSA Austin SIG Meeting
DESCRIPTION:
URL:https://nsaspeaker.org/local-event/nsa-austin-sig-meeting-3/
END:VEVENT
END:VCALENDAR