BEGIN:VCALENDAR
VERSION:2.0
PRODID:-//National Speakers Association - ECPv6.15.20//NONSGML v1.0//EN
CALSCALE:GREGORIAN
METHOD:PUBLISH
X-ORIGINAL-URL:https://nsaspeaker.org
X-WR-CALDESC:Events for National Speakers Association
REFRESH-INTERVAL;VALUE=DURATION:PT1H
X-Robots-Tag:noindex
X-PUBLISHED-TTL:PT1H
BEGIN:VTIMEZONE
TZID:America/Phoenix
BEGIN:STANDARD
TZOFFSETFROM:-0700
TZOFFSETTO:-0700
TZNAME:MST
DTSTART:20210101T000000
END:STANDARD
END:VTIMEZONE
BEGIN:VEVENT
DTSTART;TZID=America/Phoenix:20220513T100000
DTEND;TZID=America/Phoenix:20220513T123000
DTSTAMP:20260423T054858
CREATED:20220216T202042Z
LAST-MODIFIED:20220226T201243Z
UID:5176-1652436000-1652445000@nsaspeaker.org
SUMMARY:NSA NYC Chapter Meeting
DESCRIPTION:To register\, click here – https://nsanyc.org/event/may-2022/
URL:https://nsaspeaker.org/local-event/nsa-nyc-chapter-meeting/
END:VEVENT
BEGIN:VEVENT
DTSTART;TZID=America/Phoenix:20220514T060000
DTEND;TZID=America/Phoenix:20220514T090000
DTSTAMP:20260423T054858
CREATED:20220216T202042Z
LAST-MODIFIED:20220226T201243Z
UID:5177-1652508000-1652518800@nsaspeaker.org
SUMMARY:NSALA: Ross Bernstein\, CSP\, CPAE
DESCRIPTION:https://nsa.la/chapter-events/
URL:https://nsaspeaker.org/local-event/nsala-ross-bernstein-csp-cpae/
END:VEVENT
END:VCALENDAR