BEGIN:VCALENDAR
VERSION:2.0
PRODID:-//National Speakers Association - ECPv6.15.20//NONSGML v1.0//EN
CALSCALE:GREGORIAN
METHOD:PUBLISH
X-WR-CALNAME:National Speakers Association
X-ORIGINAL-URL:https://nsaspeaker.org
X-WR-CALDESC:Events for National Speakers Association
REFRESH-INTERVAL;VALUE=DURATION:PT1H
X-Robots-Tag:noindex
X-PUBLISHED-TTL:PT1H
BEGIN:VTIMEZONE
TZID:America/Phoenix
BEGIN:STANDARD
TZOFFSETFROM:-0700
TZOFFSETTO:-0700
TZNAME:MST
DTSTART:20210101T000000
END:STANDARD
END:VTIMEZONE
BEGIN:VEVENT
DTSTART;TZID=America/Phoenix:20220408T100000
DTEND;TZID=America/Phoenix:20220408T123000
DTSTAMP:20260421T090842
CREATED:20220216T202042Z
LAST-MODIFIED:20220226T201242Z
UID:5174-1649412000-1649421000@nsaspeaker.org
SUMMARY:NSA NYC Chapter Meeting with Jules Lewis
DESCRIPTION:To register\, click here – https://nsanyc.org/event/april-2022/
URL:https://nsaspeaker.org/local-event/nsa-nyc-chapter-meeting-with-jules-lewis/
END:VEVENT
BEGIN:VEVENT
DTSTART;TZID=America/Phoenix:20220409T060000
DTEND;TZID=America/Phoenix:20220409T090000
DTSTAMP:20260421T090842
CREATED:20220216T202042Z
LAST-MODIFIED:20220226T201242Z
UID:5175-1649484000-1649494800@nsaspeaker.org
SUMMARY:NSALA: Clint Pulver
DESCRIPTION:https://nsa.la/chapter-events/
URL:https://nsaspeaker.org/local-event/nsala-clint-pulver/
END:VEVENT
END:VCALENDAR