BEGIN:VCALENDAR
VERSION:2.0
PRODID:-//National Speakers Association - ECPv6.15.20//NONSGML v1.0//EN
CALSCALE:GREGORIAN
METHOD:PUBLISH
X-ORIGINAL-URL:https://nsaspeaker.org
X-WR-CALDESC:Events for National Speakers Association
REFRESH-INTERVAL;VALUE=DURATION:PT1H
X-Robots-Tag:noindex
X-PUBLISHED-TTL:PT1H
BEGIN:VTIMEZONE
TZID:America/Phoenix
BEGIN:STANDARD
TZOFFSETFROM:-0700
TZOFFSETTO:-0700
TZNAME:MST
DTSTART:20260101T000000
END:STANDARD
END:VTIMEZONE
BEGIN:VTIMEZONE
TZID:America/Detroit
BEGIN:DAYLIGHT
TZOFFSETFROM:-0500
TZOFFSETTO:-0400
TZNAME:EDT
DTSTART:20260308T070000
END:DAYLIGHT
BEGIN:STANDARD
TZOFFSETFROM:-0400
TZOFFSETTO:-0500
TZNAME:EST
DTSTART:20261101T060000
END:STANDARD
BEGIN:DAYLIGHT
TZOFFSETFROM:-0500
TZOFFSETTO:-0400
TZNAME:EDT
DTSTART:20270314T070000
END:DAYLIGHT
BEGIN:STANDARD
TZOFFSETFROM:-0400
TZOFFSETTO:-0500
TZNAME:EST
DTSTART:20271107T060000
END:STANDARD
BEGIN:DAYLIGHT
TZOFFSETFROM:-0500
TZOFFSETTO:-0400
TZNAME:EDT
DTSTART:20280312T070000
END:DAYLIGHT
BEGIN:STANDARD
TZOFFSETFROM:-0400
TZOFFSETTO:-0500
TZNAME:EST
DTSTART:20281105T060000
END:STANDARD
END:VTIMEZONE
BEGIN:VEVENT
DTSTART;TZID=America/Phoenix:20270710T054500
DTEND;TZID=America/Phoenix:20270710T093000
DTSTAMP:20260425T072155
CREATED:20250815T182131Z
LAST-MODIFIED:20260424T082318Z
UID:11873-1815198300-1815211800@nsaspeaker.org
SUMMARY:NSAMI: Karl Mecklenberg\, CSP - Beyond the Job Description
DESCRIPTION:More info and registration at www.nsamichigan.org/mecklenberg \nWhat you offer beyond the expected is what makes you stand out to your clients. Bring your authentic self on and off the stage every day. Karl will share how he uses the story and bridge method along with other on-stage techniques to present his authentic self to the audience. \nKarl Mecklenburg rose from a college football walk-on and twelfth round draft choice\, to become one of the top players in Denver Broncos history. During his twelve-year career with the Broncos\, Mecklenburg played in three Super Bowls\, played in six Pro Bowls\, and was a team captain. Karl is widely known as the most versatile player in NFL history\, having played all seven defensive front positions\, sometimes during a single game. In 1987 Mecklenburg was named AFC Linebacker of the year\, and Defensive Player of the Year. Since retiring from the NFL\, Mecklenburg has been inducted in the Colorado Sports Hall of Fame\, The Denver Broncos Ring of Fame\, and for ten consecutive years was a semifinalist for the Pro Football Hall of Fame. Mecklenburg was widely known as a fierce competitor who never took a down off. Karl approaches his speaking career with the same dedication and intelligence that marked his great football career.
URL:https://nsaspeaker.org/local-event/nsami-seminar-13/
LOCATION:Washtenaw Community College\, 4800 E Huron River Dr\, Ann Arbor\, MI\, United States
END:VEVENT
BEGIN:VEVENT
DTSTART;TZID=America/Detroit:20270710T084500
DTEND;TZID=America/Detroit:20270710T123000
DTSTAMP:20260425T072155
CREATED:20260416T120816Z
LAST-MODIFIED:20260424T082318Z
UID:13744-1815209100-1815222600@nsaspeaker.org
SUMMARY:NSAMI: Karl Mecklenberg\, CSP - Beyond the Job Description
DESCRIPTION:More info and registration at www.nsamichigan.org/mecklenberg \nWhat you offer beyond the expected is what makes you stand out to your clients. Bring your authentic self on and off the stage every day. Karl will share how he uses the story and bridge method along with other on-stage techniques to present his authentic self to the audience. \nKarl Mecklenburg rose from a college football walk-on and twelfth round draft choice\, to become one of the top players in Denver Broncos history. During his twelve-year career with the Broncos\, Mecklenburg played in three Super Bowls\, played in six Pro Bowls\, and was a team captain. Karl is widely known as the most versatile player in NFL history\, having played all seven defensive front positions\, sometimes during a single game. In 1987 Mecklenburg was named AFC Linebacker of the year\, and Defensive Player of the Year. Since retiring from the NFL\, Mecklenburg has been inducted in the Colorado Sports Hall of Fame\, The Denver Broncos Ring of Fame\, and for ten consecutive years was a semifinalist for the Pro Football Hall of Fame. Mecklenburg was widely known as a fierce competitor who never took a down off. Karl approaches his speaking career with the same dedication and intelligence that marked his great football career.
URL:https://nsaspeaker.org/local-event/nsami-karl-mecklenberg-csp-beyond-the-job-description/
LOCATION:Washtenaw Community College\, 4800 E Huron River Dr\, Ann Arbor\, MI\, United States
END:VEVENT
BEGIN:VEVENT
DTSTART;TZID=America/Phoenix:20270715T160000
DTEND;TZID=America/Phoenix:20270715T170000
DTSTAMP:20260425T072155
CREATED:20260416T120816Z
LAST-MODIFIED:20260424T082318Z
UID:13745-1815667200-1815670800@nsaspeaker.org
SUMMARY:Inside BlackNSA (Virtual)
DESCRIPTION:Come curious. Leave clear. \nRegister now and bring a friend. \nhttps://bnsalinks.com/InsideBlackNSA \n \n  \nReady to grow your speaking business and connect with a community that truly supports your success? \nInside BlackNSA is a new monthly experience for nonmembers who want a real look at the culture\, leadership\, and community of BlackNSA. No pressure. Just real connection and opportunity. \nYolanda Greer is the Chief Leadership & Team Culture Developer at Elevate U Consulting \, and she specializes in helping high-performers silence imposter syndrome and step into their next level of confidence. At this month Inside BlackNSA\, she is bringing that expertise to our community with her session: “Purposeful Leadership” \nIf you want to build a sustainable speaking business\, you have to master your Identity – \nPurpose – Practices framework. \n⏰7:00 PM ET📍Live on Zoom \nThis is not a webinar. It’s a front-row experience. \nCome curious. Leave clear.Register now and bring a friend. \nhttps://bnsalinks.com/InsideBlackNSA \nQuestions? office@blacknsa.com
URL:https://nsaspeaker.org/local-event/inside-blacknsa-virtual-14/
END:VEVENT
BEGIN:VEVENT
DTSTART;TZID=America/Phoenix:20270819T160000
DTEND;TZID=America/Phoenix:20270819T170000
DTSTAMP:20260425T072155
CREATED:20260416T120816Z
LAST-MODIFIED:20260424T082318Z
UID:13746-1818691200-1818694800@nsaspeaker.org
SUMMARY:Inside BlackNSA (Virtual)
DESCRIPTION:Come curious. Leave clear. \nRegister now and bring a friend. \nhttps://bnsalinks.com/InsideBlackNSA \n \n  \nReady to grow your speaking business and connect with a community that truly supports your success? \nInside BlackNSA is a new monthly experience for nonmembers who want a real look at the culture\, leadership\, and community of BlackNSA. No pressure. Just real connection and opportunity. \nYolanda Greer is the Chief Leadership & Team Culture Developer at Elevate U Consulting \, and she specializes in helping high-performers silence imposter syndrome and step into their next level of confidence. At this month Inside BlackNSA\, she is bringing that expertise to our community with her session: “Purposeful Leadership” \nIf you want to build a sustainable speaking business\, you have to master your Identity – \nPurpose – Practices framework. \n⏰7:00 PM ET📍Live on Zoom \nThis is not a webinar. It’s a front-row experience. \nCome curious. Leave clear.Register now and bring a friend. \nhttps://bnsalinks.com/InsideBlackNSA \nQuestions? office@blacknsa.com
URL:https://nsaspeaker.org/local-event/inside-blacknsa-virtual-15/
END:VEVENT
BEGIN:VEVENT
DTSTART;TZID=America/Phoenix:20270911T054500
DTEND;TZID=America/Phoenix:20270911T093000
DTSTAMP:20260425T072155
CREATED:20250911T212214Z
LAST-MODIFIED:20260424T082319Z
UID:12163-1820641500-1820655000@nsaspeaker.org
SUMMARY:NSAMI Seminar
DESCRIPTION:
URL:https://nsaspeaker.org/local-event/nsami-seminar-14/
LOCATION:Washtenaw Community College\, 4800 E Huron River Dr\, Ann Arbor\, MI\, United States
END:VEVENT
BEGIN:VEVENT
DTSTART;TZID=America/Phoenix:20270916T160000
DTEND;TZID=America/Phoenix:20270916T170000
DTSTAMP:20260425T072155
CREATED:20260416T120816Z
LAST-MODIFIED:20260424T082319Z
UID:13747-1821110400-1821114000@nsaspeaker.org
SUMMARY:Inside BlackNSA (Virtual)
DESCRIPTION:Come curious. Leave clear. \nRegister now and bring a friend. \nhttps://bnsalinks.com/InsideBlackNSA \n \n  \nReady to grow your speaking business and connect with a community that truly supports your success? \nInside BlackNSA is a new monthly experience for nonmembers who want a real look at the culture\, leadership\, and community of BlackNSA. No pressure. Just real connection and opportunity. \nYolanda Greer is the Chief Leadership & Team Culture Developer at Elevate U Consulting \, and she specializes in helping high-performers silence imposter syndrome and step into their next level of confidence. At this month Inside BlackNSA\, she is bringing that expertise to our community with her session: “Purposeful Leadership” \nIf you want to build a sustainable speaking business\, you have to master your Identity – \nPurpose – Practices framework. \n⏰7:00 PM ET📍Live on Zoom \nThis is not a webinar. It’s a front-row experience. \nCome curious. Leave clear.Register now and bring a friend. \nhttps://bnsalinks.com/InsideBlackNSA \nQuestions? office@blacknsa.com
URL:https://nsaspeaker.org/local-event/inside-blacknsa-virtual-16/
END:VEVENT
BEGIN:VEVENT
DTSTART;TZID=America/Phoenix:20271021T160000
DTEND;TZID=America/Phoenix:20271021T170000
DTSTAMP:20260425T072155
CREATED:20260416T120817Z
LAST-MODIFIED:20260424T082319Z
UID:13748-1824134400-1824138000@nsaspeaker.org
SUMMARY:Inside BlackNSA (Virtual)
DESCRIPTION:Come curious. Leave clear. \nRegister now and bring a friend. \nhttps://bnsalinks.com/InsideBlackNSA \n \n  \nReady to grow your speaking business and connect with a community that truly supports your success? \nInside BlackNSA is a new monthly experience for nonmembers who want a real look at the culture\, leadership\, and community of BlackNSA. No pressure. Just real connection and opportunity. \nYolanda Greer is the Chief Leadership & Team Culture Developer at Elevate U Consulting \, and she specializes in helping high-performers silence imposter syndrome and step into their next level of confidence. At this month Inside BlackNSA\, she is bringing that expertise to our community with her session: “Purposeful Leadership” \nIf you want to build a sustainable speaking business\, you have to master your Identity – \nPurpose – Practices framework. \n⏰7:00 PM ET📍Live on Zoom \nThis is not a webinar. It’s a front-row experience. \nCome curious. Leave clear.Register now and bring a friend. \nhttps://bnsalinks.com/InsideBlackNSA \nQuestions? office@blacknsa.com
URL:https://nsaspeaker.org/local-event/inside-blacknsa-virtual-17/
END:VEVENT
BEGIN:VEVENT
DTSTART;TZID=America/Phoenix:20271113T064500
DTEND;TZID=America/Phoenix:20271113T103000
DTSTAMP:20260425T072155
CREATED:20251113T200707Z
LAST-MODIFIED:20260424T082319Z
UID:12620-1826088300-1826101800@nsaspeaker.org
SUMMARY:NSAMI Seminar
DESCRIPTION:
URL:https://nsaspeaker.org/local-event/nsami-seminar-15/
LOCATION:Washtenaw Community College\, 4800 E Huron River Dr\, Ann Arbor\, MI\, United States
END:VEVENT
BEGIN:VEVENT
DTSTART;TZID=America/Phoenix:20271118T170000
DTEND;TZID=America/Phoenix:20271118T180000
DTSTAMP:20260425T072155
CREATED:20260416T120817Z
LAST-MODIFIED:20260424T082319Z
UID:13749-1826557200-1826560800@nsaspeaker.org
SUMMARY:Inside BlackNSA (Virtual)
DESCRIPTION:Come curious. Leave clear. \nRegister now and bring a friend. \nhttps://bnsalinks.com/InsideBlackNSA \n \n  \nReady to grow your speaking business and connect with a community that truly supports your success? \nInside BlackNSA is a new monthly experience for nonmembers who want a real look at the culture\, leadership\, and community of BlackNSA. No pressure. Just real connection and opportunity. \nYolanda Greer is the Chief Leadership & Team Culture Developer at Elevate U Consulting \, and she specializes in helping high-performers silence imposter syndrome and step into their next level of confidence. At this month Inside BlackNSA\, she is bringing that expertise to our community with her session: “Purposeful Leadership” \nIf you want to build a sustainable speaking business\, you have to master your Identity – \nPurpose – Practices framework. \n⏰7:00 PM ET📍Live on Zoom \nThis is not a webinar. It’s a front-row experience. \nCome curious. Leave clear.Register now and bring a friend. \nhttps://bnsalinks.com/InsideBlackNSA \nQuestions? office@blacknsa.com
URL:https://nsaspeaker.org/local-event/inside-blacknsa-virtual-18/
END:VEVENT
BEGIN:VEVENT
DTSTART;TZID=America/Phoenix:20271216T170000
DTEND;TZID=America/Phoenix:20271216T180000
DTSTAMP:20260425T072155
CREATED:20260416T120817Z
LAST-MODIFIED:20260424T082319Z
UID:13750-1828976400-1828980000@nsaspeaker.org
SUMMARY:Inside BlackNSA (Virtual)
DESCRIPTION:Come curious. Leave clear. \nRegister now and bring a friend. \nhttps://bnsalinks.com/InsideBlackNSA \n \n  \nReady to grow your speaking business and connect with a community that truly supports your success? \nInside BlackNSA is a new monthly experience for nonmembers who want a real look at the culture\, leadership\, and community of BlackNSA. No pressure. Just real connection and opportunity. \nYolanda Greer is the Chief Leadership & Team Culture Developer at Elevate U Consulting \, and she specializes in helping high-performers silence imposter syndrome and step into their next level of confidence. At this month Inside BlackNSA\, she is bringing that expertise to our community with her session: “Purposeful Leadership” \nIf you want to build a sustainable speaking business\, you have to master your Identity – \nPurpose – Practices framework. \n⏰7:00 PM ET📍Live on Zoom \nThis is not a webinar. It’s a front-row experience. \nCome curious. Leave clear.Register now and bring a friend. \nhttps://bnsalinks.com/InsideBlackNSA \nQuestions? office@blacknsa.com
URL:https://nsaspeaker.org/local-event/inside-blacknsa-virtual-19/
END:VEVENT
BEGIN:VEVENT
DTSTART;TZID=America/Phoenix:20280120T170000
DTEND;TZID=America/Phoenix:20280120T180000
DTSTAMP:20260425T072155
CREATED:20260416T120817Z
LAST-MODIFIED:20260424T082319Z
UID:13751-1832000400-1832004000@nsaspeaker.org
SUMMARY:Inside BlackNSA (Virtual)
DESCRIPTION:Come curious. Leave clear. \nRegister now and bring a friend. \nhttps://bnsalinks.com/InsideBlackNSA \n \n  \nReady to grow your speaking business and connect with a community that truly supports your success? \nInside BlackNSA is a new monthly experience for nonmembers who want a real look at the culture\, leadership\, and community of BlackNSA. No pressure. Just real connection and opportunity. \nYolanda Greer is the Chief Leadership & Team Culture Developer at Elevate U Consulting \, and she specializes in helping high-performers silence imposter syndrome and step into their next level of confidence. At this month Inside BlackNSA\, she is bringing that expertise to our community with her session: “Purposeful Leadership” \nIf you want to build a sustainable speaking business\, you have to master your Identity – \nPurpose – Practices framework. \n⏰7:00 PM ET📍Live on Zoom \nThis is not a webinar. It’s a front-row experience. \nCome curious. Leave clear.Register now and bring a friend. \nhttps://bnsalinks.com/InsideBlackNSA \nQuestions? office@blacknsa.com
URL:https://nsaspeaker.org/local-event/inside-blacknsa-virtual-20/
END:VEVENT
BEGIN:VEVENT
DTSTART;TZID=America/Phoenix:20280217T170000
DTEND;TZID=America/Phoenix:20280217T180000
DTSTAMP:20260425T072155
CREATED:20260416T120817Z
LAST-MODIFIED:20260424T082319Z
UID:13752-1834419600-1834423200@nsaspeaker.org
SUMMARY:Inside BlackNSA (Virtual)
DESCRIPTION:Come curious. Leave clear. \nRegister now and bring a friend. \nhttps://bnsalinks.com/InsideBlackNSA \n \n  \nReady to grow your speaking business and connect with a community that truly supports your success? \nInside BlackNSA is a new monthly experience for nonmembers who want a real look at the culture\, leadership\, and community of BlackNSA. No pressure. Just real connection and opportunity. \nYolanda Greer is the Chief Leadership & Team Culture Developer at Elevate U Consulting \, and she specializes in helping high-performers silence imposter syndrome and step into their next level of confidence. At this month Inside BlackNSA\, she is bringing that expertise to our community with her session: “Purposeful Leadership” \nIf you want to build a sustainable speaking business\, you have to master your Identity – \nPurpose – Practices framework. \n⏰7:00 PM ET📍Live on Zoom \nThis is not a webinar. It’s a front-row experience. \nCome curious. Leave clear.Register now and bring a friend. \nhttps://bnsalinks.com/InsideBlackNSA \nQuestions? office@blacknsa.com
URL:https://nsaspeaker.org/local-event/inside-blacknsa-virtual-21/
END:VEVENT
BEGIN:VEVENT
DTSTART;TZID=America/Phoenix:20280316T160000
DTEND;TZID=America/Phoenix:20280316T170000
DTSTAMP:20260425T072155
CREATED:20260416T120817Z
LAST-MODIFIED:20260424T082319Z
UID:13753-1836835200-1836838800@nsaspeaker.org
SUMMARY:Inside BlackNSA (Virtual)
DESCRIPTION:Come curious. Leave clear. \nRegister now and bring a friend. \nhttps://bnsalinks.com/InsideBlackNSA \n \n  \nReady to grow your speaking business and connect with a community that truly supports your success? \nInside BlackNSA is a new monthly experience for nonmembers who want a real look at the culture\, leadership\, and community of BlackNSA. No pressure. Just real connection and opportunity. \nYolanda Greer is the Chief Leadership & Team Culture Developer at Elevate U Consulting \, and she specializes in helping high-performers silence imposter syndrome and step into their next level of confidence. At this month Inside BlackNSA\, she is bringing that expertise to our community with her session: “Purposeful Leadership” \nIf you want to build a sustainable speaking business\, you have to master your Identity – \nPurpose – Practices framework. \n⏰7:00 PM ET📍Live on Zoom \nThis is not a webinar. It’s a front-row experience. \nCome curious. Leave clear.Register now and bring a friend. \nhttps://bnsalinks.com/InsideBlackNSA \nQuestions? office@blacknsa.com
URL:https://nsaspeaker.org/local-event/inside-blacknsa-virtual-22/
END:VEVENT
BEGIN:VEVENT
DTSTART;TZID=America/Phoenix:20280420T160000
DTEND;TZID=America/Phoenix:20280420T170000
DTSTAMP:20260425T072155
CREATED:20260424T082319Z
LAST-MODIFIED:20260424T082319Z
UID:13815-1839859200-1839862800@nsaspeaker.org
SUMMARY:Inside BlackNSA (Virtual)
DESCRIPTION:Come curious. Leave clear. \nRegister now and bring a friend. \nhttps://bnsalinks.com/InsideBlackNSA \n \n  \nReady to grow your speaking business and connect with a community that truly supports your success? \nInside BlackNSA is a new monthly experience for nonmembers who want a real look at the culture\, leadership\, and community of BlackNSA. No pressure. Just real connection and opportunity. \nYolanda Greer is the Chief Leadership & Team Culture Developer at Elevate U Consulting \, and she specializes in helping high-performers silence imposter syndrome and step into their next level of confidence. At this month Inside BlackNSA\, she is bringing that expertise to our community with her session: “Purposeful Leadership” \nIf you want to build a sustainable speaking business\, you have to master your Identity – \nPurpose – Practices framework. \n⏰7:00 PM ET📍Live on Zoom \nThis is not a webinar. It’s a front-row experience. \nCome curious. Leave clear.Register now and bring a friend. \nhttps://bnsalinks.com/InsideBlackNSA \nQuestions? office@blacknsa.com
URL:https://nsaspeaker.org/local-event/inside-blacknsa-virtual-23/
END:VEVENT
END:VCALENDAR