BEGIN:VCALENDAR
VERSION:2.0
PRODID:-//National Speakers Association - ECPv6.15.20//NONSGML v1.0//EN
CALSCALE:GREGORIAN
METHOD:PUBLISH
X-WR-CALNAME:National Speakers Association
X-ORIGINAL-URL:https://nsaspeaker.org
X-WR-CALDESC:Events for National Speakers Association
REFRESH-INTERVAL;VALUE=DURATION:PT1H
X-Robots-Tag:noindex
X-PUBLISHED-TTL:PT1H
BEGIN:VTIMEZONE
TZID:America/Phoenix
BEGIN:STANDARD
TZOFFSETFROM:-0700
TZOFFSETTO:-0700
TZNAME:MST
DTSTART:20220101T000000
END:STANDARD
END:VTIMEZONE
BEGIN:VEVENT
DTSTART;TZID=America/Phoenix:20230218T070000
DTEND;TZID=America/Phoenix:20230218T100000
DTSTAMP:20260419T103112
CREATED:20221002T214951Z
LAST-MODIFIED:20221002T214951Z
UID:6469-1676703600-1676714400@nsaspeaker.org
SUMMARY:NSAPgh: Mike Staver - How to Build a High Performance Business
DESCRIPTION:
URL:https://nsaspeaker.org/local-event/nsapgh-mike-staver-how-to-build-a-high-performance-business-8/
LOCATION:TBD
END:VEVENT
BEGIN:VEVENT
DTSTART;TZID=America/Phoenix:20230218T090000
DTEND;TZID=America/Phoenix:20230218T120000
DTSTAMP:20260419T103112
CREATED:20221002T214950Z
LAST-MODIFIED:20221002T214950Z
UID:6468-1676710800-1676721600@nsaspeaker.org
SUMMARY:NSA-NM “Deep-Dive” Workshop
DESCRIPTION:Speaking to Associations — Bypass the Gatekeeper: Get to the Decision-Makers\nNSA-NM MOST-REQUESTED TOPIC!\n\n \nwith Ed Rigsbee\, CSP\, CPAESpeaker\, Author\, Certified Association Executive\nTired of hearing from association meeting planners\, “We don’t pay speakers\,” yet you see big names on their program? They do pay speakers\, but not just any speaker. Associations want subject matter experts and…  (View Full event Description Here: https://nsanm.org/event/february-nsa-nm-chapter-meeting-2023/)
URL:https://nsaspeaker.org/local-event/nsa-nm-deep-dive-workshop-28/
LOCATION:Children’s Choice Services\, Inc.\, 10601 Lomas Blvd. NE
END:VEVENT
BEGIN:VEVENT
DTSTART;TZID=America/Phoenix:20230223T140000
DTEND;TZID=America/Phoenix:20230223T153000
DTSTAMP:20260419T103112
CREATED:20230131T230609Z
LAST-MODIFIED:20230203T230648Z
UID:7529-1677160800-1677166200@nsaspeaker.org
SUMMARY:NSA LA: Glen Guyton
DESCRIPTION:nsa.la
URL:https://nsaspeaker.org/local-event/nsa-la-glen-guyton/
END:VEVENT
BEGIN:VEVENT
DTSTART;TZID=America/Phoenix:20230223T190000
DTEND;TZID=America/Phoenix:20230223T210000
DTSTAMP:20260419T103112
CREATED:20230131T230610Z
LAST-MODIFIED:20230203T230649Z
UID:7530-1677178800-1677186000@nsaspeaker.org
SUMMARY:NSA NorCal: SEO Magic with Amy Graves
DESCRIPTION:www.nsanc.org
URL:https://nsaspeaker.org/local-event/nsa-norcal-seo-magic-with-amy-graves/
END:VEVENT
BEGIN:VEVENT
DTSTART;TZID=America/Phoenix:20230223T190000
DTEND;TZID=America/Phoenix:20230223T210000
DTSTAMP:20260419T103112
CREATED:20230131T230611Z
LAST-MODIFIED:20230131T230611Z
UID:7535-1677178800-1677186000@nsaspeaker.org
SUMMARY:NSA NorCal: SEO Magic with Amy Graves
DESCRIPTION:www.nsanc.org
URL:https://nsaspeaker.org/local-event/nsa-norcal-seo-magic-with-amy-graves-2/
END:VEVENT
BEGIN:VEVENT
DTSTART;TZID=America/Phoenix:20230228T100000
DTEND;TZID=America/Phoenix:20230228T113000
DTSTAMP:20260419T103112
CREATED:20221222T215032Z
LAST-MODIFIED:20230203T230649Z
UID:7212-1677578400-1677583800@nsaspeaker.org
SUMMARY:NSA Carolinas - MEGA Chapter Event: How to Leverage YouTube for Lead Generation with Nate Woodbury
DESCRIPTION:NSA Carolinas is inviting you to register: https://nsacarolinas.wildapricot.org/event-5084653 \nJoin us for this multi-NSA chapter event and learn how to use YouTube to build a massive following\, more lead generation and increased business revenue!   \nWe’re thrilled to feature Nate Woodburry\, YouTube Producer and Founder of Be The Hero Studios.  After the presentation\, we’ll open it up so you can ask Nate questions!  https://BeTheHeroStudios.com \nClick here or the image below to watch a special video from Nate!
URL:https://nsaspeaker.org/local-event/nsa-carolinas-mega-chapter-event-how-to-leverage-youtube-for-lead-generation-with-nate-woodbury/
END:VEVENT
BEGIN:VEVENT
DTSTART;TZID=America/Phoenix:20230309T180000
DTEND;TZID=America/Phoenix:20230309T190000
DTSTAMP:20260419T103112
CREATED:20221002T214951Z
LAST-MODIFIED:20221002T214951Z
UID:6470-1678384800-1678388400@nsaspeaker.org
SUMMARY:NSA-NM Popcorn Session
DESCRIPTION:How to Legally Use Film &TV Clips in Your Presentations\nwith Gail RubinThe Doyenne of Death®\nGail Rubin\, The Doyenne of Death®\, speaks on planning ahead for end-of-life issues. She takes what many people consider a downer topic and puts the “fun” in funeral planning with humor and clips from movies and TV shows. Learn how you can legally use videos to enhance your… (View Full event Description Here: https://nsanm.org/event/march-nsa-nm-popcorn-session-2023/)
URL:https://nsaspeaker.org/local-event/nsa-nm-popcorn-session-28/
LOCATION:Virtual
END:VEVENT
BEGIN:VEVENT
DTSTART;TZID=America/Phoenix:20230310T090000
DTEND;TZID=America/Phoenix:20230310T130000
DTSTAMP:20260419T103112
CREATED:20230127T230444Z
LAST-MODIFIED:20230203T230649Z
UID:7501-1678438800-1678453200@nsaspeaker.org
SUMMARY:NSA-CO Monthly Meeting (Hybrid)
DESCRIPTION:Register here: \nhttps://www.nsacolorado.org/march-2023-monthly-meeting
URL:https://nsaspeaker.org/local-event/nsa-co-monthly-meeting-hybrid-2/
LOCATION:Posner Center for International Development\, 1031 33rd St\, Denver\, CO 80205\, USA
END:VEVENT
BEGIN:VEVENT
DTSTART;TZID=America/Phoenix:20230311T070000
DTEND;TZID=America/Phoenix:20230311T100000
DTSTAMP:20260419T103112
CREATED:20230131T230611Z
LAST-MODIFIED:20230203T230649Z
UID:7533-1678518000-1678528800@nsaspeaker.org
SUMMARY:NSA LA: Green\, O'Brion\, Pettit + Singer
DESCRIPTION:nsa.la
URL:https://nsaspeaker.org/local-event/nsa-la-green-obrion-pettit-singer/
END:VEVENT
BEGIN:VEVENT
DTSTART;TZID=America/Phoenix:20230311T083000
DTEND;TZID=America/Phoenix:20230311T120000
DTSTAMP:20260419T103112
CREATED:20221002T214951Z
LAST-MODIFIED:20221002T214951Z
UID:6471-1678523400-1678536000@nsaspeaker.org
SUMMARY:NSA-AZ Program Meeting
DESCRIPTION:https://nsa-arizona.org/events
URL:https://nsaspeaker.org/local-event/nsa-az-program-meeting-63/
LOCATION:Ability360 Center\, 5025 E Washington St\, Phoenix\, AZ 85034\, USA
END:VEVENT
BEGIN:VEVENT
DTSTART;TZID=America/Phoenix:20230313T153000
DTEND;TZID=America/Phoenix:20230313T173000
DTSTAMP:20260419T103112
CREATED:20230131T230611Z
LAST-MODIFIED:20230203T230650Z
UID:7536-1678721400-1678728600@nsaspeaker.org
SUMMARY:NSAPgh: Meridith Elliott Powell\, CSP\, CPAE
DESCRIPTION:nsapittsburgh.org
URL:https://nsaspeaker.org/local-event/nsapgh-meridith-elliott-powell-csp-cpae/
END:VEVENT
BEGIN:VEVENT
DTSTART;TZID=America/Phoenix:20230318T090000
DTEND;TZID=America/Phoenix:20230318T120000
DTSTAMP:20260419T103112
CREATED:20230131T230611Z
LAST-MODIFIED:20230203T230650Z
UID:7537-1679130000-1679140800@nsaspeaker.org
SUMMARY:NSA NorCal: Meeting Planner/Speaker Bureau Panel
DESCRIPTION:www.nsanc.org
URL:https://nsaspeaker.org/local-event/nsa-norcal-meeting-planner-speaker-bureau-panel/
END:VEVENT
BEGIN:VEVENT
DTSTART;TZID=America/Phoenix:20230327T101500
DTEND;TZID=America/Phoenix:20230327T113000
DTSTAMP:20260419T103112
CREATED:20230127T230446Z
LAST-MODIFIED:20230203T230650Z
UID:7504-1679912100-1679916600@nsaspeaker.org
SUMMARY:Lunch n Learn March 2023
DESCRIPTION:Virtual doors open at 11:15am for socializing. Event starts at 11:30pm to 12:30pm   \nTopic: Lunch n Learn-The Many Ways to be a Professional Communicator: Business Beyond Keynotes \nRegister Here:https://www.nsacolorado.org/mar-27-lunch-n-learn
URL:https://nsaspeaker.org/local-event/lunch-n-learn-march-2023/
LOCATION:Virtual Event
END:VEVENT
BEGIN:VEVENT
DTSTART;TZID=America/Phoenix:20230401T070000
DTEND;TZID=America/Phoenix:20230401T093000
DTSTAMP:20260419T103112
CREATED:20221014T223354Z
LAST-MODIFIED:20230203T230650Z
UID:6803-1680332400-1680341400@nsaspeaker.org
SUMMARY:NSA Austin: Mark LeBlanc\, CSP (Hybrid Event)
DESCRIPTION:When You Are the Business!with Mark LeBlanc\, CSP \nLeBlanc is known for his approach to business development\, based on his first book\, Growing Your Business. He is a CSP and was inducted into the Minnesota Hall of Fame in 2006. \nLittle does anyone know that Mark was ready to throw in the towel on the elusive\, keynote speaking side of his career until a turning point in the summer of 2014.  That defining moment led to a banquet speech in Nashville six months later that he will say\, “…was the best speech of my career even to this day.” \nFind out what he did and how it could help you turn up the volume in your keynote speaking career.  He will also shine a light on what you need to know and what you want to do in elevating your speaking career and grow your little empire. \nAs a result of listening to Mark\, you will: \n\nhave a deeper understanding of how your speech or presentation can impact an audience for a lifetime\,\nhear three\, strategic decisions you can make to fill your calendar with more follow-on opportunities in consulting\, training\, coaching and authorship\,\ndiscover the one tool you can create and the one strategy you can implement without spending a dime\,\nexplore the opportunities in leveraged and scalable income\, and\nreceive three tools that will focus your work effort and predictable success.\n\nMark LeBlanc runs a speaking business and has excelled at staging his own events.  As a speaker\, he conducts presentations and creates experiences for professionals who want to create an extreme sliver of focus.  Mark has clocked over twenty thousand coaching hours helping people start or grow their business.  He is the author or co-author of six books.  His latest book\, Rainmaker Confidential was published during the pandemic.  As a result of his work\, people often share they are more focused\, generate immediate traction\, gain new momentum and create a path for more business.  On a personal note\, next summer\, he will go on a short\, five hundred mile walk across Spain – for the fourth time! \nhttps://nsa-austin.com/events/hybrid-event-mark-leblanc-csp-april-1-2023/
URL:https://nsaspeaker.org/local-event/nsa-austin-mark-leblanc-csp-hybrid-event/
LOCATION:https://nsa-austin.com/events/hybrid-event-mark-leblanc-csp-april-1-2023/
END:VEVENT
BEGIN:VEVENT
DTSTART;TZID=America/Phoenix:20230408T060000
DTEND;TZID=America/Phoenix:20230408T090000
DTSTAMP:20260419T103112
CREATED:20230131T230612Z
LAST-MODIFIED:20230407T200448Z
UID:7539-1680933600-1680944400@nsaspeaker.org
SUMMARY:NSA LA: Sheri Fitts
DESCRIPTION:nsa.la
URL:https://nsaspeaker.org/local-event/nsa-la-sheri-fitts/
END:VEVENT
BEGIN:VEVENT
DTSTART;TZID=America/Phoenix:20230408T083000
DTEND;TZID=America/Phoenix:20230408T120000
DTSTAMP:20260419T103112
CREATED:20221002T214951Z
LAST-MODIFIED:20221002T214951Z
UID:6472-1680942600-1680955200@nsaspeaker.org
SUMMARY:NSA-AZ Program Meeting
DESCRIPTION:https://nsa-arizona.org/events
URL:https://nsaspeaker.org/local-event/nsa-az-program-meeting-64/
LOCATION:Ability360 Center\, 5025 E Washington St\, Phoenix\, AZ 85034\, USA
END:VEVENT
BEGIN:VEVENT
DTSTART;TZID=America/Phoenix:20230413T170000
DTEND;TZID=America/Phoenix:20230413T190000
DTSTAMP:20260419T103112
CREATED:20221002T214951Z
LAST-MODIFIED:20221002T214951Z
UID:6473-1681405200-1681412400@nsaspeaker.org
SUMMARY:NSA-NM Chapter Meeting
DESCRIPTION:Pink Goldfish: Amplify Differentiation to Stand Out as a Speaker\nNSA-NM SURVEY HOT TOPIC!\nwith Stan Phelps\, CSPForbes Contributor\, TEDx Speaker\, IBM Futurist\,Best-Selling Author of the Goldfish Series\nHow do you stand out in a sea of sameness? This program provides an unconventional eight-part F.L.A.W.S.O.M.E. framework for achieving competitive separation in the competitive speaking marketplace… (View Full event Description Here: https://nsanm.org/event/april-nsa-nm-chapter-meeting-2023/)
URL:https://nsaspeaker.org/local-event/nsa-nm-chapter-meeting-19/
LOCATION:Virtual
END:VEVENT
BEGIN:VEVENT
DTSTART;TZID=America/Phoenix:20230414T080000
DTEND;TZID=America/Phoenix:20230414T120000
DTSTAMP:20260419T103112
CREATED:20230127T230447Z
LAST-MODIFIED:20230413T200506Z
UID:7505-1681459200-1681473600@nsaspeaker.org
SUMMARY:NSA-CO Monthly Meeting (Hybrid)
DESCRIPTION:Registration details coming soon… \nhttps://www.nsacolorado.org/events
URL:https://nsaspeaker.org/local-event/nsa-co-monthly-meeting-hybrid-3/
LOCATION:Posner Center for International Development\, 1031 33rd St\, Denver\, CO 80205\, USA
END:VEVENT
BEGIN:VEVENT
DTSTART;TZID=America/Phoenix:20230415T053000
DTEND;TZID=America/Phoenix:20230415T090000
DTSTAMP:20260419T103112
CREATED:20221002T214951Z
LAST-MODIFIED:20221002T214951Z
UID:6474-1681536600-1681549200@nsaspeaker.org
SUMMARY:NSAMI: Mike Staver - How to Build a High Performance Business
DESCRIPTION:https://www.nsamichigan.com/events
URL:https://nsaspeaker.org/local-event/nsami-mike-staver-how-to-build-a-high-performance-business-8/
LOCATION:Washtenaw Community College\, 4800 E Huron River Dr\, Ann Arbor\, MI 48105\, USA
END:VEVENT
BEGIN:VEVENT
DTSTART;TZID=America/Phoenix:20230415T060000
DTEND;TZID=America/Phoenix:20230415T090000
DTSTAMP:20260419T103112
CREATED:20230131T230613Z
LAST-MODIFIED:20230414T200525Z
UID:7540-1681538400-1681549200@nsaspeaker.org
SUMMARY:NSAPgh: Heather Lutze\, CSP
DESCRIPTION:nsapittsburgh.org
URL:https://nsaspeaker.org/local-event/nsapgh-heather-lutze-csp/
END:VEVENT
BEGIN:VEVENT
DTSTART;TZID=America/Phoenix:20230415T090000
DTEND;TZID=America/Phoenix:20230415T113000
DTSTAMP:20260419T103112
CREATED:20230404T221601Z
LAST-MODIFIED:20230414T200525Z
UID:7883-1681549200-1681558200@nsaspeaker.org
SUMMARY:NSA NorCal: Arnold Sanow
DESCRIPTION:www.nsanc.org
URL:https://nsaspeaker.org/local-event/nsa-norcal-arnold-sanow/
END:VEVENT
BEGIN:VEVENT
DTSTART;TZID=America/Phoenix:20230415T090000
DTEND;TZID=America/Phoenix:20230415T130000
DTSTAMP:20260419T103112
CREATED:20230404T221600Z
LAST-MODIFIED:20230414T200525Z
UID:7882-1681549200-1681563600@nsaspeaker.org
SUMMARY:NSA Oregon: Jim Cathcart\, CSP\, CPAE Hybrid 1/2 Day Workshop
DESCRIPTION:https://nsaoregon.org/events/half-day-workshop-april-15-2023/ \nTruly “Going Pro®”\, How to Reach the Top 1% of Your Chosen Field\nAs the founder of The Experts Academy™ Mentor program\, Jim grooms people to reach their Top 1% and become certified as a Certified Professional Expert\, CPE™. This involves defining and isolating the field and target level you aspire to reach. As the person who designed NSA’s Professional Competencies that are used to certify CSPs\, Jim knows how to do this well. \nThe process has 3 key stages: Clarification\, Integration and Monetization. In this Experts Academy Mini-Course he will walk you through the steps for your business path. \nTakeaways: \n\nConfidence\, Clarity and Courage.\nYou will be able to Identify your Aspiration Level and understand the price in time and effort to reach it.\nLearn the VIDAH formula for upgrading everything you do.\nSee how to build Integrity into all your actions\, products\, systems\, and practices so that all of them feed your successjourney.\nIsolate the power message in what you teach so you can focus everything upon it.\n\nAbout Jim Cathcart\, CSP CPAE\nJim Cathcart\, CSP\, CPAE has done just about everything a speaker has on his or her career bucket list.National President of NSA 1988-89\, Speaker Hall of Fame 1985\, CSP 1981\, Convention chair 1982\, Opening Session Convention Keynote 1993\, The Cavett Award 1993\, Voices of Experience Host 2010-11\, US Delegate (GSF board member) to the Global Speakers Forum for 2 years\, plus serving 10 years on the national NSA board of directors. \nHis TEDx video is in the Top 1% with over 2.6 Million Views. \nHe has received The Golden Gavel Award from Toastmasters International in 2001 joining Earl Nightingale\, Walter Cronkite\, Jeanne Robertson\, Zig Ziglar\, Tony Robbins and Les Brown among others.He was a member of Speakers Roundtable mastermind with Cavett Robert and other top speakers for 29 years. \nJim has written and published 24 books and delivered over 3\,400 highly paid speeches around the world\, including 23major cities in China. \nHe has spoken for pay in all 50 US states.
URL:https://nsaspeaker.org/local-event/nsa-oregon-jim-cathcart-csp-cpae-hybrid-1-2-day-workshop/
LOCATION:https://nsaoregon.org/events/half-day-workshop-april-15-2023/
END:VEVENT
BEGIN:VEVENT
DTSTART;TZID=America/Phoenix:20230421T053000
DTEND;TZID=America/Phoenix:20230421T090000
DTSTAMP:20260419T103112
CREATED:20230404T221601Z
LAST-MODIFIED:20230420T202017Z
UID:7885-1682055000-1682067600@nsaspeaker.org
SUMMARY:NSA VA: Unleash Your Speaker Superpower
DESCRIPTION:www.nsavirginia.org
URL:https://nsaspeaker.org/local-event/nsa-va-unleash-your-speaker-superpower/
LOCATION:Virginia Society of Certified Public Accountants (VSCPA)\, 4309 Cox Rd\, Glen Allen\, VA 23060\, USA
END:VEVENT
BEGIN:VEVENT
DTSTART;TZID=America/Phoenix:20230427T180000
DTEND;TZID=America/Phoenix:20230427T200000
DTSTAMP:20260419T103112
CREATED:20230404T221601Z
LAST-MODIFIED:20230427T201944Z
UID:7886-1682618400-1682625600@nsaspeaker.org
SUMMARY:NSANC: Antonio White - All About Chat GPT
DESCRIPTION:Register at www.nsanc.org
URL:https://nsaspeaker.org/local-event/nsanc-antonio-white-all-about-chat-gpt/
END:VEVENT
BEGIN:VEVENT
DTSTART;TZID=America/Phoenix:20230429T053000
DTEND;TZID=America/Phoenix:20230429T100000
DTSTAMP:20260419T103112
CREATED:20230404T221603Z
LAST-MODIFIED:20230428T201942Z
UID:7894-1682746200-1682762400@nsaspeaker.org
SUMMARY:Mastering the Art of Legacy Building For Your Speaking and Training Expertise: Innovative Business Models For Success
DESCRIPTION:DESCRIPTIONIt’s time to tap into the power of legacy building and make it work for you!  \nJoin award-winning international speaker Jasmin Haley\, MS\,  as she takes participants through her Legacy Scaler® Framework — a powerful tool that will help you make decisions in your business with long term profitability & sustainability.  \nBe prepared to learn about creative\, innovative models that are on the rise – all customized around attendees’ own expertise and revenue goals.  \nDon’t miss this opportunity to take control of your business destiny today by developing an incredible lasting impact. Following the workshop presentation will be an inspiring panel discussion with leading experts & speakers in North Carolina.  \nAGENDA \n \n\n8:30 am Networking\n9:00 – 11:00 am Mastering the Art of Legacy Building For Your Speaking and Training Expertise: Innovative Business Models For Success Workshop\n11:00-11:15 am Break\n11:15-12:15 pm Innovative Business Models Panel Discussion\n12:15 pm- 1:00 pm  Program concludes and networking\n\nOBJECTIVES \nAt the conclusion of this workshop\, the participants will be able to: \n \n\nIdentify the different business models in the speaking & training industry\, including traditional and modern models\nEvaluate personal strengths\, expertise\, and revenue goals to determine the most suitable business model to adopt\nDevelop a strategic plan for legacy building with speaking & training\n\nMore information and registration can be found at: https://www.nsacarolinas.org/event-5203285
URL:https://nsaspeaker.org/local-event/mastering-the-art-of-legacy-building-for-your-speaking-and-training-expertise-innovative-business-models-for-success/
LOCATION:transform GSO\, 111 West Lewis Street\, 111 Bain St\, Greensboro\, NC 27406\, USA
END:VEVENT
BEGIN:VEVENT
DTSTART;TZID=America/Phoenix:20230505T093000
DTEND;TZID=America/Phoenix:20230505T113000
DTSTAMP:20260419T103112
CREATED:20230404T221604Z
LAST-MODIFIED:20230504T203525Z
UID:7896-1683279000-1683286200@nsaspeaker.org
SUMMARY:NSA Austin: Steve Bollar (Hybrid event)
DESCRIPTION:Speaker CEOwith Steve BollarBeing a professional speaker isn’t just speaking on stage\, coaching clients or consulting organizations. Stop thinking that you have to do it all alone. Take charge of your speaking driven business and start leading it like a CEO. In this session Steve will share… \n\nHow to delegate with more confidence… and worry less about the work getting done. \nHow to best develop and use a team… virtually and in person. \nHow to work with your team to develop strategies\, ideas and tips to improve your speaking\, events and branding… so you are unforgettable.\n\n \nSteve Bollar\, a.k.a. Stand Tall Steve\, is an educational thought leader\, former superintendent of schools\, principal\, author and a school culture and motivation expert. He is known for his quick wit\, creative thought\, and humorous personality. \nSteve has been a member of NSA for 20 years. Starting in the speaker academy to becoming the past two term president of NSA Philadelphia. Now Steve is a member of the NSA Chapter Leadership Committee (CLC) who provides training and guidance to NSA state chapter leaders throughout the country. \nSteve is the author of the leadership book Stand Tall Leadership\, school culture book Ideas\, Ideas\, Ideas! and is a contributing author in the book Because of a Teacher and School Climate 2.0: Preventing Cyberbullying One Classroom at a Time. \nSteve’s alter ego is Stand Tall Steve. Stand Tall Steve openly shares his knowledge\, experiences and creativity with others. He currently speaks to students\, staff and communities throughout the country about how to think differently about schools\, education\, and life. \nhttps://nsa-austin.com/events/hybrid-event-steve-bollar-may-5-2023/
URL:https://nsaspeaker.org/local-event/nsa-austin-steve-bollar-hybrid-event/
LOCATION:https://nsa-austin.com/events/hybrid-event-steve-bollar-may-5-2023/
END:VEVENT
BEGIN:VEVENT
DTSTART;TZID=America/Phoenix:20230508T183000
DTEND;TZID=America/Phoenix:20230508T203000
DTSTAMP:20260419T103112
CREATED:20230404T221604Z
LAST-MODIFIED:20230508T203635Z
UID:7898-1683570600-1683577800@nsaspeaker.org
SUMMARY:NSA Oregon: Trevor Perry In-person Program
DESCRIPTION:Story to Stage\nStorytelling has become the skill du-jour\, although it seems speakers tend not to agree on the exact definition of storytelling. In this program\, Trevor will first review the basics of storytelling. He’ll then introduce his Storycrafting framework to guide speakers to build compelling sessions to ensure effective communication and a connection with audiences. \nStagecraft is a skill that all speakers can regularly revisit and polish. Trevor offers some unexpected tips on how to prepare and deliver sessions under any circumstances. \nOur Storywriting break will be used to outline a short story\, then fill in the content as time permits. NSA Oregon chapter members can bring a prepared story\, preferably shorter than 5 minutes\, to work on during Storywriting. \nAfter Storywriting\, some members will present their story to the audience\, and constructive critique will be offered. Prepare to learn from everyone’s contributions to level up and evolve your own speaking sessions. \nJoin us for: \n\nan introduction to Storycrafting\nan introduction to Stagecrafting\na Storywriting “break”\nbring the stories to the Stage\n\n(Join us at 6:15 for virtual networking!) \nAbout Trevor Perry\nTrevor Perry is The Perspective Catalyst. He is an Australian of Irish heritage who lives in America\, and spent time faking an English accent performing street theater. Trevor brings his unique perspective to the stage\, entertaining\, motivating\, and inspiring. \nTrevor’s signature keynote\, Seeing Stars\, encourages people to shine their light and make a difference in the world that is their sphere of influence.Trevor’s book\, Never Iron When You Are Naked\, is the best motivational book you can read one page at a time. \nTrevor is currently on the board of directors of the NSA Austin chapter. He was previously the Dean of the Speaker Academy for the NSA NYC chapter. For over 20 years. he has been teaching techies and inexperienced speakers how to craft and tell stories\, along with other professional and personal development topics. \nhttps://nsaoregon.org/events/in-person-program-may-8-2023/
URL:https://nsaspeaker.org/local-event/nsa-oregon-trevor-perry-in-person-program/
LOCATION:https://nsaoregon.org/events/in-person-program-may-8-2023/
END:VEVENT
BEGIN:VEVENT
DTSTART;TZID=America/Phoenix:20230509T090000
DTEND;TZID=America/Phoenix:20230509T101500
DTSTAMP:20260419T103112
CREATED:20230504T203524Z
LAST-MODIFIED:20230508T203635Z
UID:8096-1683622800-1683627300@nsaspeaker.org
SUMMARY:Join NSA Carolinas for its first ever Mastermind Group!
DESCRIPTION:NSA Carolinas is thrilled to announce a new Mastermind initiative to help you further drive and accelerate your speaking progress.  The NSA Carolinas Mastermind will meet quarterly\, virtually\, and is for members only. Huge VALUE ADD for membership!  \nAttending will enable you to connect with other NSA Carolinas members\, share ideas\, ask questions and get feedback on any issues or challenges you might be facing.   \nAttend prepared with an issue needing some insights OR simply attend and learn from others.  The meeting agenda is who shows up and shares!  \nOur vision by offering this Mastermind group is to provide you with yet another unique touchpoint to support your growth\, development and success as a speaker.   \nThe Mastermind is for members only\, virtual and complementary. Each will be facilitated by one of our seasoned Chapter members.  \nClick here for additional information.
URL:https://nsaspeaker.org/local-event/join-nsa-carolinas-for-its-first-ever-mastermind-group/
END:VEVENT
BEGIN:VEVENT
DTSTART;TZID=America/Phoenix:20230512T080000
DTEND;TZID=America/Phoenix:20230512T120000
DTSTAMP:20260419T103112
CREATED:20230127T230447Z
LAST-MODIFIED:20230511T203505Z
UID:7507-1683878400-1683892800@nsaspeaker.org
SUMMARY:NSA-CO Monthly Meeting (Hybrid)
DESCRIPTION:Registration details coming soon…https://www.nsacolorado.org/events \nAnnunciation Room – Event Annex next to Assumption Greek Orthodox Church \n4610 E Alameda Ave\, Denver\, CO 80246
URL:https://nsaspeaker.org/local-event/nsa-co-monthly-meeting-hybrid-4/
LOCATION:4610 E Alameda Ave\, Denver\, CO 80246\, USA
END:VEVENT
BEGIN:VEVENT
DTSTART;TZID=America/Phoenix:20230513T060000
DTEND;TZID=America/Phoenix:20230513T090000
DTSTAMP:20260419T103112
CREATED:20230131T230614Z
LAST-MODIFIED:20230512T203444Z
UID:7541-1683957600-1683968400@nsaspeaker.org
SUMMARY:NSA LA: Ed Rigsbee\, CSP
DESCRIPTION:nsa.la
URL:https://nsaspeaker.org/local-event/nsa-la-ed-rigsbee-csp/
END:VEVENT
END:VCALENDAR