BEGIN:VCALENDAR
VERSION:2.0
PRODID:-//National Speakers Association - ECPv6.15.20//NONSGML v1.0//EN
CALSCALE:GREGORIAN
METHOD:PUBLISH
X-WR-CALNAME:National Speakers Association
X-ORIGINAL-URL:https://nsaspeaker.org
X-WR-CALDESC:Events for National Speakers Association
REFRESH-INTERVAL;VALUE=DURATION:PT1H
X-Robots-Tag:noindex
X-PUBLISHED-TTL:PT1H
BEGIN:VTIMEZONE
TZID:America/Phoenix
BEGIN:STANDARD
TZOFFSETFROM:-0700
TZOFFSETTO:-0700
TZNAME:MST
DTSTART:20250101T000000
END:STANDARD
END:VTIMEZONE
BEGIN:VEVENT
DTSTART;TZID=America/Phoenix:20260609T171500
DTEND;TZID=America/Phoenix:20260609T184500
DTSTAMP:20260422T113241
CREATED:20260117T203736Z
LAST-MODIFIED:20260417T082311Z
UID:13094-1781025300-1781030700@nsaspeaker.org
SUMMARY:NSA Austin: Speech Mastermind (In-person)
DESCRIPTION:https://nsa-austin.com/events/june-9-2026/ \nJoin us in person for NSA Austin’s Speech Mastermind SIG meeting! \nWant to run ideas\, activities or stories for your speech by a group of your colleagues to see how well they float? Now you can. \nBring your ideas\, scripting\, imaging\, props\, etc. and be ready to demonstrate a short portion or part of your speech in front of the group. First drafts and last drafts are welcome. \nObtain feedback\, suggestions\, embellishment\, and deepening elements you could probably not imagine. Punch up your copy and presentation with the help of everyone in attendance and walk out with a better version of your speech. This is an opportunity you have only dreamed about. Now it is a distinct possibility…Wednesday night. Don’t have something ready to work on? Come anyway and contribute to others. Next time will be your time. \nREGISTRATION REQUIRED: Tickets below \nDAY: Tuesday\, June 9\, 2026 \nTIME: 7:15 pm – 8:45 pm Central time \nLOCATION: Paul Radde’s home (you must register to get login information) \nGUESTS are welcome \nQuestions: speakers@nsa-austin.com \nStop wondering if your story\, punch-line\, or message is getting across. This group will help let you know and help you make it more powerful! \nThank you\,Paul RaddeSpeech Mastermind ChairNSA Austin \nhttps://nsa-austin.com/events/june-9-2026/
URL:https://nsaspeaker.org/local-event/nsa-austin-speech-mastermind-in-person-12/
LOCATION:https://nsa-austin.com/events/june-9-2026/
END:VEVENT
END:VCALENDAR