BEGIN:VCALENDAR
VERSION:2.0
PRODID:-//National Speakers Association - ECPv6.15.20//NONSGML v1.0//EN
CALSCALE:GREGORIAN
METHOD:PUBLISH
X-ORIGINAL-URL:https://nsaspeaker.org
X-WR-CALDESC:Events for National Speakers Association
REFRESH-INTERVAL;VALUE=DURATION:PT1H
X-Robots-Tag:noindex
X-PUBLISHED-TTL:PT1H
BEGIN:VTIMEZONE
TZID:America/Phoenix
BEGIN:STANDARD
TZOFFSETFROM:-0700
TZOFFSETTO:-0700
TZNAME:MST
DTSTART:20250101T000000
END:STANDARD
END:VTIMEZONE
BEGIN:VEVENT
DTSTART;TZID=America/Phoenix:20260605T064500
DTEND;TZID=America/Phoenix:20260605T101500
DTSTAMP:20260422T070829
CREATED:20250917T215224Z
LAST-MODIFIED:20260217T212239Z
UID:12193-1780641900-1780654500@nsaspeaker.org
SUMMARY:Chapter Meeting\, End-of-Year Celebration and Recognition
DESCRIPTION:https://tockify.com/nsa.stl/detail/3/1780667100000
URL:https://nsaspeaker.org/local-event/chapter-meeting-end-of-year-celebration-and-recognition/
END:VEVENT
BEGIN:VEVENT
DTSTART;TZID=America/Phoenix:20260605T143000
DTEND;TZID=America/Phoenix:20260605T163000
DTSTAMP:20260422T070829
CREATED:20250815T182126Z
LAST-MODIFIED:20260417T082311Z
UID:11855-1780669800-1780677000@nsaspeaker.org
SUMMARY:NSA Austin Mastermind (In-person Event)
DESCRIPTION:In-person Event – The Business of Speaking Mastermind\nhttps://nsa-austin.com/events/june-5-2025/ \nWelcome to the Business of Speaking Mastermind Event – an opportunity for you to share feedback\, suggestions\, and ideas to enhance all of our public speaking skills and business development. \nThis month we gather as a group of professional speakers to share best practices\, new tools we are using\, innovative marketing strategies\, creative sales processes\, and more\, all with the goal of helping to elevate the collective speaking business of everyone in the room. \nWe often have one person who leads the Mastermind and facilitates conversations. Or we might have an open roundtable discussion where ideas free flow and amazing take aways can happen every moment! \nThis is a unique opportunity to tap into the expertise of your fellow NSA Austin Members and work collaboratively towards developing powerful solutions. Join us for an invigorating meeting where we’ll brainstorm and develop strategies for success. \nMake sure to bring your burning questions and favorite note-taking application! \nWe’re confident that magic will happen when a group of us get together and focus on one question or idea. Don’t miss this incredible opportunity to enhance your skills and build better businesses. \nWe look forward to seeing you there! \nhttps://nsa-austin.com/events/june-5-2025/
URL:https://nsaspeaker.org/local-event/nsa-austin-mastermind-in-person-event-8/
LOCATION:https://nsa-austin.com/events/june-5-2025/
END:VEVENT
END:VCALENDAR