BEGIN:VCALENDAR
VERSION:2.0
PRODID:-//National Speakers Association - ECPv6.15.20//NONSGML v1.0//EN
CALSCALE:GREGORIAN
METHOD:PUBLISH
X-ORIGINAL-URL:https://nsaspeaker.org
X-WR-CALDESC:Events for National Speakers Association
REFRESH-INTERVAL;VALUE=DURATION:PT1H
X-Robots-Tag:noindex
X-PUBLISHED-TTL:PT1H
BEGIN:VTIMEZONE
TZID:America/Phoenix
BEGIN:STANDARD
TZOFFSETFROM:-0700
TZOFFSETTO:-0700
TZNAME:MST
DTSTART:20250101T000000
END:STANDARD
END:VTIMEZONE
BEGIN:VEVENT
DTSTART;TZID=America/Phoenix:20260508T063000
DTEND;TZID=America/Phoenix:20260508T093000
DTSTAMP:20260422T070829
CREATED:20260314T222202Z
LAST-MODIFIED:20260417T082310Z
UID:13506-1778221800-1778232600@nsaspeaker.org
SUMMARY:NSA-IL: Jim Cathcart - What to Do When You're the Speaker
DESCRIPTION:IN PERSON EVENT! Full details here: https://nsa-il.org/product/may2026/ \nWant to grow your speaking business and build a foundation that will allow it to scale? Jim Cathcart\, CSP\, CPAE — mentor to many of the world’s top speakers — shares strategies and insights from almost 50 years as a full-time speaker. \nThis program will help you: \n\nRefine Your Value Message\nFocus Your Brand Identity\nIsolate Your Optimum Clients\nSelect Your Business Model\nSet Your Operating Standards.\n\nGENERAL SCHEDULE:8:30 – 9:00am      Open Networking\, Small Breakout Sessions9:00 – 11:15           Education Program11:15 – 11:30am     Networking
URL:https://nsaspeaker.org/local-event/nsa-il-jim-cathcart-what-to-do-when-youre-the-speaker/
LOCATION:Chandler’s Chophouse\, 401 N Roselle Rd\, Schaumburg\, IL\, United States
END:VEVENT
BEGIN:VEVENT
DTSTART;TZID=America/Phoenix:20260508T063000
DTEND;TZID=America/Phoenix:20260508T100000
DTSTAMP:20260422T070829
CREATED:20260416T120717Z
LAST-MODIFIED:20260417T082310Z
UID:13658-1778221800-1778234400@nsaspeaker.org
SUMMARY:NSA Philly Amplify Your Impact: Mastering Authentic Engagement & Influence
DESCRIPTION:Register: https://nsaphiladelphia.starchapter.com/meetinginfo.php?id=125&ts=1772726933 \nAs a professional speaker\, your message is powerful—but are you delivering it in a way that truly resonates with every audience and with all demographics in the room? In this high-energy\, interactive session\, we’ll explore proven strategies to elevate your authenticity\, engagement\, and impact on stage (and how to specifically prove that impact). You’ll learn how to dive into real conversations with your audience that results in each speech being tailored in-the-moment; you’ll unlearn “professional speaking must-do’s” from the past; and discover the key to audience members committing to positive behavioral changes. Whether you’re a seasoned keynote speaker or building your brand\, this session will give you tools to maximize your influence and leave audiences wanting more. \n3 Key Takeaways: \n \n\nThe Conversation Formula – Discover actionable “Audience-Driven Experience” techniques to foster deeper audience connection (not to just get your audience to agree with you)\, truly get into your audience’s world\, increase interaction\, and create lasting impact.\nOvercoming Audience Barriers – Uncover strategies to help your audiences get past their own personal barriers for not implementing what you are teaching from the stage.\nThe Proof – Learn how to help clients bring you back over and over again by proving the impact of your programs. And at least one person will get to jump into a “Seat of Opportunity” to put your new skills into action live in the room AND get immediate feedback.\n\nYou may have seen Mike Domitrz\, CSP\, CPAE\, quoted in Forbes\, The Wall Street Journal\, or as a featured expert on the Dateline NBC Special “My Kid Would Never Do That.” In the summer of 2022\, you have seen him walk across the stage at Influence as he was inducted into the Hall-of-Fame for NSA (the C.P.A.E.). For over 3 decades\, Mike has been one of the most sought after speakers for addressing sexual consent\, personal boundaries\, and reducing sexual violence. In the corporate and association space\, Mike is known for helping organizations lead with respect as the foundation to all they do. As the Founder of The Center for Respect\, his clients are the US Military\, Fortune 500 Corporations\, and educational institutions\, including some of the country’s most prestigious schools. Mike is known for tackling difficult topics that can be polarizing – through audience-driven conversations that adapt in real-time and are not scripted. His presentation can change at any moment based on the discussion he is having with the audience – whether that audience is 10 people or 6\,000. Mike’s ability to foster genuine dialogue and measurable change has led clients to bring him to speak for 20 consecutive years. In this session\, he looks forward to holding nothing back with you!!
URL:https://nsaspeaker.org/local-event/nsa-philly-amplify-your-impact-mastering-authentic-engagement-influence/
LOCATION:Courtyard by Marriott Philadelphia Plymouth Meeting\, 651 Fountain Rd\, Plymouth Meeting\, PA\, United States
END:VEVENT
BEGIN:VEVENT
DTSTART;TZID=America/Phoenix:20260508T080000
DTEND;TZID=America/Phoenix:20260508T130000
DTSTAMP:20260422T070829
CREATED:20250815T182124Z
LAST-MODIFIED:20260117T203734Z
UID:11847-1778227200-1778245200@nsaspeaker.org
SUMMARY:NSA-CO:Monthly Chapter Meeting
DESCRIPTION:Please join us for our monthly NSA-Colorado Chapter Meeting.  \nRegistration closes the Tuesday before the meeting. Walk-ins welcome but tickets at the door are $80.https://www.nsacolorado.org/events \nEvent  Location: The Village Event Center 7173 S Havana St #600\, Centennial\, CO 80112Directions
URL:https://nsaspeaker.org/local-event/nsa-comonthly-chapter-meeting-9/
LOCATION:The Village Work\, Englewood\, CO\, United States
END:VEVENT
BEGIN:VEVENT
DTSTART;TZID=America/Phoenix:20260508T080000
DTEND;TZID=America/Phoenix:20260508T130000
DTSTAMP:20260422T070829
CREATED:20260416T120716Z
LAST-MODIFIED:20260417T082310Z
UID:13656-1778227200-1778245200@nsaspeaker.org
SUMMARY:NSA-CO:Monthly Chapter Meeting
DESCRIPTION:https://www.nsacolorado.org/events\nThe Village Event Center\n7173 S Havana St #600\, Centennial\, CO 80112
URL:https://nsaspeaker.org/local-event/nsa-comonthly-chapter-meeting-10/
LOCATION:The Village Work\, Englewood\, CO\, United States
END:VEVENT
END:VCALENDAR