BEGIN:VCALENDAR
VERSION:2.0
PRODID:-//National Speakers Association - ECPv6.15.20//NONSGML v1.0//EN
CALSCALE:GREGORIAN
METHOD:PUBLISH
X-WR-CALNAME:National Speakers Association
X-ORIGINAL-URL:https://nsaspeaker.org
X-WR-CALDESC:Events for National Speakers Association
REFRESH-INTERVAL;VALUE=DURATION:PT1H
X-Robots-Tag:noindex
X-PUBLISHED-TTL:PT1H
BEGIN:VTIMEZONE
TZID:America/Phoenix
BEGIN:STANDARD
TZOFFSETFROM:-0700
TZOFFSETTO:-0700
TZNAME:MST
DTSTART:20240101T000000
END:STANDARD
END:VTIMEZONE
BEGIN:VEVENT
DTSTART;TZID=America/Phoenix:20250417T160000
DTEND;TZID=America/Phoenix:20250417T173000
DTSTAMP:20260425T070402
CREATED:20240830T222302Z
LAST-MODIFIED:20250312T220927Z
UID:10412-1744905600-1744911000@nsaspeaker.org
SUMMARY:NSA Ohio: The Speakers Journey
DESCRIPTION:TheSpeakers Journey: Wisdom from Expert Speakers with A panel of NSA Ohio Members \nGain invaluable knowledge and practical advice from seasonedspeakers who have mastered the art of captivating audiences and making alasting impact through their presentations. Whether you’re looking to kickstartyour speaking journey or elevate your existing systems\, “The SpeakersJourney” promises to equip you with the tools and inspiration needed tosucceed in the world of public speaking. Get to know and learn from some of NSAOhio’s best. \nThis panel brings together a diverse group of NSA Ohioaccomplished members who have excelled in various facets of the speakingindustry. Ask your questions and learn from our experienced speakers. \nThis is a virtual event. Register here: https://www.nsaohio.com/offers/PKMwfaC6/checkout
URL:https://nsaspeaker.org/local-event/nsa-ohio-the-speakers-journey/
LOCATION:https://www.nsaohio.com/offers/PKMwfaC6/checkout
END:VEVENT
END:VCALENDAR