BEGIN:VCALENDAR
VERSION:2.0
PRODID:-//National Speakers Association - ECPv6.15.20//NONSGML v1.0//EN
CALSCALE:GREGORIAN
METHOD:PUBLISH
X-WR-CALNAME:National Speakers Association
X-ORIGINAL-URL:https://nsaspeaker.org
X-WR-CALDESC:Events for National Speakers Association
REFRESH-INTERVAL;VALUE=DURATION:PT1H
X-Robots-Tag:noindex
X-PUBLISHED-TTL:PT1H
BEGIN:VTIMEZONE
TZID:America/Phoenix
BEGIN:STANDARD
TZOFFSETFROM:-0700
TZOFFSETTO:-0700
TZNAME:MST
DTSTART:20240101T000000
END:STANDARD
END:VTIMEZONE
BEGIN:VEVENT
DTSTART;TZID=America/Phoenix:20250404T070000
DTEND;TZID=America/Phoenix:20250404T100000
DTSTAMP:20260423T105904
CREATED:20241014T204311Z
LAST-MODIFIED:20250306T220726Z
UID:10672-1743750000-1743760800@nsaspeaker.org
SUMMARY:NSA Austin Chapter Event
DESCRIPTION:
URL:https://nsaspeaker.org/local-event/nsa-austin-chapter-event-6/
END:VEVENT
BEGIN:VEVENT
DTSTART;TZID=America/Phoenix:20250404T070000
DTEND;TZID=America/Phoenix:20250404T100000
DTSTAMP:20260423T105904
CREATED:20250111T213807Z
LAST-MODIFIED:20250212T205310Z
UID:11155-1743750000-1743760800@nsaspeaker.org
SUMMARY:NSA Austin Hybrid Event: Rick Lozano\, CSP
DESCRIPTION:Original Amplified \nLeveragingYour Uniqueness to Create Thought Leadership\, Flow\, and Distinction \nThere is no shortage of speakers\, trainers\, and consultants out there. \nAnd even the most talented of us sometimes struggle to distinguish ourselves in a crowded market. So how do you create content and a platform that’s uniquely yours and that separates you from the rest? \nThat’s exactly what Rick Lozano will be talking about in this dynamic and inspiring session! \nHe’ll be sharing some tips and tricks for how to use your unique skills\, talents\, and passions\, to create experiences that only you can deliver. And\, in the process\, you’ll ignite massive momentum in your business and feel great about it along the way. \nNo matter where you are in your career journey\, you are guaranteed to find value in this session as Rick draws brings his singular style to deliver a session that is equal parts insightful and entertaining. \nGuitar included. \nYou’ll walk away with: \n\nA framework for creating content that stands out and inspires you and your audience.\nA streamlined approach to building your platform so you don’t have to constantly reinvent the wheel.\nA renewed sense of excitement for your work.\nExamples of other NSA members who have elevated their work utilizing Rick’s process.\n\nFor more information on Rick\, visit https://ricklozanopreview.com \nMeet Rick Lozano\, CSP:  \nRick Lozano helps people unlock potential and amplify their talent\, and he does it all with his unique blend of energy\, expertise\, and a musician’s soul. \nWith twenty years of experience in award-winning talent and leadership development programs\, Rick brings his unique approach to audiences across the globe\, combining his expertise as a world-class speaker with his talents as a singer/songwriter and musician. \nHe is the author of Acoustic Leadership – Develop A Leadership Culture That Resonates and the owner of Unlock & Amplify®. He has built a reputation for his refreshing delivery that leaves audiences raving and – more importantly – with action items they can immediately implement to produce change. \nhttps://nsa-austin.com/events/rick-lozano-csp-february-7-2025-hybrid-event/
URL:https://nsaspeaker.org/local-event/nsa-austin-hybrid-event-rick-lozano-csp-4/
LOCATION:https://nsa-austin.com/events/rick-lozano-csp-february-7-2025-hybrid-event/
END:VEVENT
BEGIN:VEVENT
DTSTART;TZID=America/Phoenix:20250404T070000
DTEND;TZID=America/Phoenix:20250404T100000
DTSTAMP:20260423T105904
CREATED:20250207T203700Z
LAST-MODIFIED:20250312T220927Z
UID:11294-1743750000-1743760800@nsaspeaker.org
SUMMARY:NSA STL - Ross Bernstein – The Champion’s Code: How to Generate Momentum and Grow Your Speaking Business Through Good Times and Bad
DESCRIPTION:Click HERE for more information and to register
URL:https://nsaspeaker.org/local-event/nsa-stl-ross-bernstein-the-champions-code-how-to-generate-momentum-and-grow-your-speaking-business-through-good-times-and-bad/
END:VEVENT
BEGIN:VEVENT
DTSTART;TZID=America/Phoenix:20250404T070000
DTEND;TZID=America/Phoenix:20250404T100000
DTSTAMP:20260423T105904
CREATED:20250307T220746Z
LAST-MODIFIED:20250312T220927Z
UID:11409-1743750000-1743760800@nsaspeaker.org
SUMMARY:NSA Austin Denise Hamilton (Hybrid Event)
DESCRIPTION:https://nsa-austin.com/events/denise-hamilton-april-4-2025-hybrid-event/\nHybrid Event – Denise Hamilton April 4\, 2025\nHow to Get the Word Out: Sharing Your Message Broadly in a Noisy World\nHow to Get the Word Out: \nSharing Your Message Broadly in a Noisy World \nYou are an expert. You’ve spent years developing your skills and your messages. But how do you bring more attention to the valuable ideas you have to share? In this workshop\, Denise Hamilton will share practical\, actionable ways to improve your visibility in both traditional and social media. To make sure you’re telling the story you want audiences to hear\, Denise will share tips on: \n\nTelevision\n Podcasts\n Print\nSocial media\nThought leadership on digital platforms like Substack and Medium\nMarketing materials\nAdvertising\n\nMeet Denise Hamilton: Denise Hamilton is an author\, speaker\, and consultant dedicated to helping leaders foster authentic connections in an ever-evolving world. Whether navigating the challenges of remote work\, integrating AI into workplaces\, or embracing a more diverse workforce\, Denise champions the human side of transformation. \nA firm believer in our collective potential to create solutions rather than dwell on problems\, Denise brings a uniquely optimistic and practical approach to even the most difficult conversations. Her ability to inspire trust and guide discussions toward actionable outcomes has become her hallmark\, empowering leaders to cultivate teams that thrive in complex\, fast-changing environments. \nDenise’s insights on building stronger\, more connected workplaces have been featured in MIT Sloan Management Review\, NPR\, Harvard Business Review\, Bloomberg\, MSNBC’s Morning Joe\, and Newsweek. Her debut book\, Indivisible\, explores how shared purpose and collaboration can help us bridge divides and build a stronger future together. \nDenise lives in Houston\, TX\, where she continues to inspire leaders and organizations to prioritize people and purpose. Learn more at denisehamilton.co \nhttps://nsa-austin.com/events/denise-hamilton-april-4-2025-hybrid-event/
URL:https://nsaspeaker.org/local-event/nsa-austin-denise-hamilton-hybrid-event/
LOCATION:https://nsa-austin.com/events/denise-hamilton-april-4-2025-hybrid-event/
END:VEVENT
END:VCALENDAR