BEGIN:VCALENDAR
VERSION:2.0
PRODID:-//National Speakers Association - ECPv6.15.20//NONSGML v1.0//EN
CALSCALE:GREGORIAN
METHOD:PUBLISH
X-ORIGINAL-URL:https://nsaspeaker.org
X-WR-CALDESC:Events for National Speakers Association
REFRESH-INTERVAL;VALUE=DURATION:PT1H
X-Robots-Tag:noindex
X-PUBLISHED-TTL:PT1H
BEGIN:VTIMEZONE
TZID:America/Phoenix
BEGIN:STANDARD
TZOFFSETFROM:-0700
TZOFFSETTO:-0700
TZNAME:MST
DTSTART:20240101T000000
END:STANDARD
END:VTIMEZONE
BEGIN:VEVENT
DTSTART;TZID=America/Phoenix:20250315T053000
DTEND;TZID=America/Phoenix:20250315T133000
DTSTAMP:20260425T062226
CREATED:20241218T203801Z
LAST-MODIFIED:20250312T220926Z
UID:11007-1742016600-1742045400@nsaspeaker.org
SUMMARY:Empower: The NSA Philadelphia Signature Event
DESCRIPTION:Empower: The NSA Philadelphia Signature Event featuring Sylvie di Giusto\, CSP. \nMore information/registration:https://nsaphiladelphia.org/meetinginfo.php?id=92&ts=1734549768
URL:https://nsaspeaker.org/local-event/empower-the-nsa-philadelphia-signature-event/
LOCATION:4100 Presidential Blvd\, Philadelphia\, PA\, United States
END:VEVENT
END:VCALENDAR