BEGIN:VCALENDAR
VERSION:2.0
PRODID:-//National Speakers Association - ECPv6.15.20//NONSGML v1.0//EN
CALSCALE:GREGORIAN
METHOD:PUBLISH
X-ORIGINAL-URL:https://nsaspeaker.org
X-WR-CALDESC:Events for National Speakers Association
REFRESH-INTERVAL;VALUE=DURATION:PT1H
X-Robots-Tag:noindex
X-PUBLISHED-TTL:PT1H
BEGIN:VTIMEZONE
TZID:America/Phoenix
BEGIN:STANDARD
TZOFFSETFROM:-0700
TZOFFSETTO:-0700
TZNAME:MST
DTSTART:20240101T000000
END:STANDARD
END:VTIMEZONE
BEGIN:VEVENT
DTSTART;TZID=America/Phoenix:20250312T100000
DTEND;TZID=America/Phoenix:20250312T120000
DTSTAMP:20260423T110440
CREATED:20250310T220719Z
LAST-MODIFIED:20250311T221035Z
UID:11426-1741773600-1741780800@nsaspeaker.org
SUMMARY:NSAAZ Speaker Studio - Hybrid
DESCRIPTION:Register: https://nsa-arizona.org/event-6097290 \nIs there an area of your speaking that would benefit from some feedback? Come join us at Speaker Studio and experience the valuable feedback and encouragement to help you improve in any area of your content development or presentation skills. \nThis meeting will be held in building 1438 on the first floor in the Privacy + Board Room. You may also attend virtually. \nAlong with Dr. Michael Haley\, NSAAZ President-Elect Dr. Ana Melikian will be facilitating this session.  \nYou may attend these sessions as a Guest. However\, if you wish to present\, you must be a Chapter member in good standing.
URL:https://nsaspeaker.org/local-event/nsaaz-speaker-studio-hybrid/
END:VEVENT
END:VCALENDAR