BEGIN:VCALENDAR
VERSION:2.0
PRODID:-//National Speakers Association - ECPv6.15.20//NONSGML v1.0//EN
CALSCALE:GREGORIAN
METHOD:PUBLISH
X-WR-CALNAME:National Speakers Association
X-ORIGINAL-URL:https://nsaspeaker.org
X-WR-CALDESC:Events for National Speakers Association
REFRESH-INTERVAL;VALUE=DURATION:PT1H
X-Robots-Tag:noindex
X-PUBLISHED-TTL:PT1H
BEGIN:VTIMEZONE
TZID:America/Phoenix
BEGIN:STANDARD
TZOFFSETFROM:-0700
TZOFFSETTO:-0700
TZNAME:MST
DTSTART:20240101T000000
END:STANDARD
END:VTIMEZONE
BEGIN:VEVENT
DTSTART;TZID=America/Phoenix:20250110T063000
DTEND;TZID=America/Phoenix:20250110T100000
DTSTAMP:20260422T071244
CREATED:20241216T202255Z
LAST-MODIFIED:20250109T213733Z
UID:10993-1736490600-1736503200@nsaspeaker.org
SUMMARY:NSA Philly - The Connection Code: Unlock Your Speaking Potential Through Relatability
DESCRIPTION:Transform your speaking career by mastering the art of relatability – the powerful ability to authentically connect\, communicate with\, and inspire any audience. In this engaging program\, learn research-backed strategies to move beyond mere likability to create meaningful audience connections that lead to more bookings\, better feedback\, and bigger impact. Discover how to leverage your authentic story\, communicate with presence\, and inspire through genuine connection to become the speaker audiences remember and recommend.   \nRegister: https://nsaphiladelphia.org/meetinginfo.php?id=90&ts=1734371664
URL:https://nsaspeaker.org/local-event/nsa-philly-the-connection-code-unlock-your-speaking-potential-through-relatability/
LOCATION:640 Fountain Rd\, Plymouth Meeting\, PA\, United States
END:VEVENT
END:VCALENDAR