BEGIN:VCALENDAR
VERSION:2.0
PRODID:-//National Speakers Association - ECPv6.15.20//NONSGML v1.0//EN
CALSCALE:GREGORIAN
METHOD:PUBLISH
X-WR-CALNAME:National Speakers Association
X-ORIGINAL-URL:https://nsaspeaker.org
X-WR-CALDESC:Events for National Speakers Association
REFRESH-INTERVAL;VALUE=DURATION:PT1H
X-Robots-Tag:noindex
X-PUBLISHED-TTL:PT1H
BEGIN:VTIMEZONE
TZID:America/Phoenix
BEGIN:STANDARD
TZOFFSETFROM:-0700
TZOFFSETTO:-0700
TZNAME:MST
DTSTART:20200101T000000
END:STANDARD
END:VTIMEZONE
BEGIN:VEVENT
DTSTART;TZID=America/Phoenix:20210908T120000
DTEND;TZID=America/Phoenix:20210908T130000
DTSTAMP:20260423T043502
CREATED:20210902T222733Z
LAST-MODIFIED:20210907T222713Z
UID:4712-1631102400-1631106000@nsaspeaker.org
SUMMARY:*Most Popular* Psychic Reading
DESCRIPTION:
URL:https://nsaspeaker.org/local-event/most-popular-psychic-reading/
END:VEVENT
END:VCALENDAR